FILENAME: O4710654.NWS.1112448.tif
QUADRANGLE_NAME: WHITESIDE RANCH
QUADRANT: NW
WEST_LONGITUDE: -106 22 30.00000
EAST_LONGITUDE: -106 18 45.00000
NORTH_LATITUDE: 47 15 0.00000
SOUTH_LATITUDE: 47 11 15.00000
PRODUCTION_DATE: 2000 11 13
RASTER_ORDER: LEFT_RIGHT/TOP_BOTTOM
BAND_ORGANIZATION: SINGLE FILE
BAND_CONTENT: BLACK&WHITE
BAND_CONTENT: UNDEFINED
BAND_CONTENT: UNDEFINED
BITS_PER_PIXEL: 8
SAMPLES_AND_LINES: 5500 7630
HORIZONTAL_DATUM: NAD83
HORIZONTAL_COORDINATE_SYSTEM: UTM
COORDINATE_ZONE: 13
HORIZONTAL_UNITS: METERS
HORIZONTAL_RESOLUTION: 1.00000
SECONDARY_HORIZONTAL_DATUM: NAD27
XY_ORIGIN: 395485.00000 5234164.00000
SECONDARY_XY_ORIGIN: 395526.62200 5233944.95500
NATION: US
NATION: "SCIENCE
STATE: MT
NW_QUAD_CORNER_XY: 395954.20600 5233863.16900
NE_QUAD_CORNER_XY: 400683.49400 5233781.70700
SE_QUAD_CORNERY_XY: 400566.69900 5226836.18100
SW_QUAD_CORNER_XY: 395831.84700 5226917.65700
SECONDARY_NW_QUAD_XY: 395950.98200 5233644.55600
SECONDARY_NE_QUAD_XY: 400680.41700 5233563.09100
SECONDARY_SE_QUAD_XY: 400563.62200 5226617.59100
SECONDARY_SW_QUAD_XY: 395828.62300 5226699.06900
RMSE_XY: 3.80000
IMAGE_SOURCE: BLACK AND WHITE FILM
SOURCE_IMAGE_ID: NAPP 9106 181
SOURCE_IMAGE_DATE: 1996 08 07
SOURCE_IMAGE_ID: NAPP 9106 145
SOURCE_IMAGE_DATE: 1996 08 07
SOURCE_DEM_DATE: 1993 00 00
AGENCY: WESTERN MAPPING CENTER (WMC)
PRODUCER: UNDEFINED
PRODUCTION_SYSTEM: GIS/MAGIC
COMPRESSION: UNDEFINED
STANDARD_VERSION: 1996 12
METADATA_DATE: 2000 11 16
DATA_FILE_SIZE: 41970500
BYTE_COUNT: 5500
