FILENAME: O4710654.SWS.1112450.tif
QUADRANGLE_NAME: WHITESIDE RANCH
QUADRANT: SW
WEST_LONGITUDE: -106 22 30.00000
EAST_LONGITUDE: -106 18 45.00000
NORTH_LATITUDE: 47 11 15.00000
SOUTH_LATITUDE: 47 7 30.00000
PRODUCTION_DATE: 2000 11 13
RASTER_ORDER: LEFT_RIGHT/TOP_BOTTOM
BAND_ORGANIZATION: SINGLE FILE
BAND_CONTENT: BLACK&WHITE
BAND_CONTENT: UNDEFINED
BAND_CONTENT: UNDEFINED
BITS_PER_PIXEL: 8
SAMPLES_AND_LINES: 5505 7631
HORIZONTAL_DATUM: NAD83
HORIZONTAL_COORDINATE_SYSTEM: UTM
COORDINATE_ZONE: 13
HORIZONTAL_UNITS: METERS
HORIZONTAL_RESOLUTION: 1.00000
SECONDARY_HORIZONTAL_DATUM: NAD27
XY_ORIGIN: 395363.00000 5227219.00000
SECONDARY_XY_ORIGIN: 395404.63100 5226999.88800
NATION: US
NATION: "SCIENCE
STATE: MT
NW_QUAD_CORNER_XY: 395831.84700 5226917.65700
NE_QUAD_CORNER_XY: 400566.69900 5226836.18100
SE_QUAD_CORNERY_XY: 400450.02300 5219890.72700
SW_QUAD_CORNER_XY: 395709.61200 5219972.21600
SECONDARY_NW_QUAD_XY: 395828.62300 5226699.06900
SECONDARY_NE_QUAD_XY: 400563.62200 5226617.59100
SECONDARY_SE_QUAD_XY: 400446.94700 5219672.16300
SECONDARY_SW_QUAD_XY: 395706.39000 5219753.65500
RMSE_XY: 3.20000
IMAGE_SOURCE: BLACK AND WHITE FILM
SOURCE_IMAGE_ID: NAPP 9106 183
SOURCE_IMAGE_DATE: 1996 08 07
SOURCE_DEM_DATE: 1993 00 00
AGENCY: WESTERN MAPPING CENTER (WMC)
PRODUCER: UNDEFINED
PRODUCTION_SYSTEM: GIS/MAGIC
COMPRESSION: UNDEFINED
STANDARD_VERSION: 1996 12
METADATA_DATE: 2000 11 16
DATA_FILE_SIZE: 42014160
BYTE_COUNT: 5505
