FILENAME: O4710653.SES.1112405.tif
QUADRANGLE_NAME: HAFLA SCHOOL
QUADRANT: SE
WEST_LONGITUDE: -106 26 15.00000
EAST_LONGITUDE: -106 22 30.00000
NORTH_LATITUDE: 47 11 15.00000
SOUTH_LATITUDE: 47 7 30.00000
PRODUCTION_DATE: 2000 11 13
RASTER_ORDER: LEFT_RIGHT/TOP_BOTTOM
BAND_ORGANIZATION: SINGLE FILE
BAND_CONTENT: BLACK&WHITE
BAND_CONTENT: UNDEFINED
BAND_CONTENT: UNDEFINED
BITS_PER_PIXEL: 8
SAMPLES_AND_LINES: 5510 7634
HORIZONTAL_DATUM: NAD83
HORIZONTAL_COORDINATE_SYSTEM: UTM
COORDINATE_ZONE: 13
HORIZONTAL_UNITS: METERS
HORIZONTAL_RESOLUTION: 1.00000
SECONDARY_HORIZONTAL_DATUM: NAD27
XY_ORIGIN: 390623.00000 5227304.00000
SECONDARY_XY_ORIGIN: 390664.63900 5227084.87000
NATION: US
NATION: "SCIENCE
STATE: MT
NW_QUAD_CORNER_XY: 391097.00300 5227002.92400
NE_QUAD_CORNER_XY: 395831.84700 5226917.65700
SE_QUAD_CORNERY_XY: 395709.61200 5219972.21600
SW_QUAD_CORNER_XY: 390969.21100 5220057.49700
SECONDARY_NW_QUAD_XY: 391093.63400 5226784.33900
SECONDARY_NE_QUAD_XY: 395828.62300 5226699.06900
SECONDARY_SE_QUAD_XY: 395706.39000 5219753.65500
SECONDARY_SW_QUAD_XY: 390965.84200 5219838.93800
RMSE_XY: 2.10000
IMAGE_SOURCE: BLACK AND WHITE FILM
SOURCE_IMAGE_ID: NAPP 9109 157
SOURCE_IMAGE_DATE: 1996 08 11
SOURCE_IMAGE_ID: NAPP 9109 158
SOURCE_IMAGE_DATE: 1996 08 11
SOURCE_DEM_DATE: 1993 00 00
AGENCY: WESTERN MAPPING CENTER (WMC)
PRODUCER: UNDEFINED
PRODUCTION_SYSTEM: GIS/MAGIC
COMPRESSION: UNDEFINED
STANDARD_VERSION: 1996 12
METADATA_DATE: 2000 11 16
DATA_FILE_SIZE: 42068850
BYTE_COUNT: 5510
