FILENAME: O4710651.NES.1112306.tif
QUADRANGLE_NAME: YORK RESERVOIR
QUADRANT: NE
WEST_LONGITUDE: -106 41 15.00000
EAST_LONGITUDE: -106 37 30.00000
NORTH_LATITUDE: 47 15 0.00000
SOUTH_LATITUDE: 47 11 15.00000
PRODUCTION_DATE: 2000 11 14
RASTER_ORDER: LEFT_RIGHT/TOP_BOTTOM
BAND_ORGANIZATION: SINGLE FILE
BAND_CONTENT: BLACK&WHITE
BAND_CONTENT: UNDEFINED
BAND_CONTENT: UNDEFINED
BITS_PER_PIXEL: 8
SAMPLES_AND_LINES: 5529 7650
HORIZONTAL_DATUM: NAD83
HORIZONTAL_COORDINATE_SYSTEM: UTM
COORDINATE_ZONE: 13
HORIZONTAL_UNITS: METERS
HORIZONTAL_RESOLUTION: 1.00000
SECONDARY_HORIZONTAL_DATUM: NAD27
XY_ORIGIN: 371810.00000 5234629.00000
SECONDARY_XY_ORIGIN: 371852.05200 5234409.60800
NATION: US
NATION: "SCIENCE
STATE: MT
NW_QUAD_CORNER_XY: 372307.91300 5234327.34100
NE_QUAD_CORNER_XY: 377037.15000 5234226.92500
SE_QUAD_CORNERY_XY: 376892.53400 5227281.47300
SW_QUAD_CORNER_XY: 372157.73300 5227381.90500
SECONDARY_NW_QUAD_XY: 372303.95700 5234108.74200
SECONDARY_NE_QUAD_XY: 377033.34000 5234008.32300
SECONDARY_SE_QUAD_XY: 376888.72500 5227062.89600
SECONDARY_SW_QUAD_XY: 372153.77700 5227163.33200
RMSE_XY: 1.60000
IMAGE_SOURCE: BLACK AND WHITE FILM
SOURCE_IMAGE_ID: NAPP 9111 099
SOURCE_IMAGE_DATE: 1996 08 11
SOURCE_DEM_DATE: 1993 00 00
AGENCY: WESTERN MAPPING CENTER (WMC)
PRODUCER: UNDEFINED
PRODUCTION_SYSTEM: GIS/MAGIC
COMPRESSION: UNDEFINED
STANDARD_VERSION: 1996 12
METADATA_DATE: 2000 11 17
DATA_FILE_SIZE: 42302379
BYTE_COUNT: 5529
