FILENAME: O4710650.SES.1112272.tif
QUADRANGLE_NAME: KIRBY RANCH
QUADRANT: SE
WEST_LONGITUDE: -106 48 45.00000
EAST_LONGITUDE: -106 45 0.00000
NORTH_LATITUDE: 47 11 15.00000
SOUTH_LATITUDE: 47 7 30.00000
PRODUCTION_DATE: 2000 11 13
RASTER_ORDER: LEFT_RIGHT/TOP_BOTTOM
BAND_ORGANIZATION: SINGLE FILE
BAND_CONTENT: BLACK&WHITE
BAND_CONTENT: UNDEFINED
BAND_CONTENT: UNDEFINED
BITS_PER_PIXEL: 8
SAMPLES_AND_LINES: 5545 7658
HORIZONTAL_DATUM: NAD83
HORIZONTAL_COORDINATE_SYSTEM: UTM
COORDINATE_ZONE: 13
HORIZONTAL_UNITS: METERS
HORIZONTAL_RESOLUTION: 1.00000
SECONDARY_HORIZONTAL_DATUM: NAD27
XY_ORIGIN: 362179.00000 5227896.00000
SECONDARY_XY_ORIGIN: 362221.30900 5227676.46800
NATION: US
NATION: "SCIENCE
STATE: MT
NW_QUAD_CORNER_XY: 362688.16400 5227594.14700
NE_QUAD_CORNER_XY: 367422.94200 5227486.13000
SE_QUAD_CORNERY_XY: 367267.35500 5220540.78100
SW_QUAD_CORNER_XY: 362527.01700 5220648.81500
SECONDARY_NW_QUAD_XY: 362683.91500 5227375.58000
SECONDARY_NE_QUAD_XY: 367418.84000 5227267.56000
SECONDARY_SE_QUAD_XY: 367263.25400 5220322.23700
SECONDARY_SW_QUAD_XY: 362522.76900 5220430.27500
RMSE_XY: 1.40000
IMAGE_SOURCE: BLACK AND WHITE FILM
SOURCE_IMAGE_ID: NAPP 9109 033
SOURCE_IMAGE_DATE: 1996 08 11
SOURCE_IMAGE_ID: NAPP 9109 034
SOURCE_IMAGE_DATE: 1996 08 11
SOURCE_DEM_DATE: 1993 00 00
AGENCY: WESTERN MAPPING CENTER (WMC)
PRODUCER: UNDEFINED
PRODUCTION_SYSTEM: GIS/MAGIC
COMPRESSION: UNDEFINED
STANDARD_VERSION: 1996 12
METADATA_DATE: 2000 11 17
DATA_FILE_SIZE: 42469155
BYTE_COUNT: 5545
