FILENAME: O4710648.NES.1112579.tif
QUADRANGLE_NAME: CEMETERY COULEE
QUADRANT: NE
WEST_LONGITUDE: -106 3 45.00000
EAST_LONGITUDE: -106 0 0.00000
NORTH_LATITUDE: 47 22 30.00000
SOUTH_LATITUDE: 47 18 45.00000
PRODUCTION_DATE: 2000 11 14
RASTER_ORDER: LEFT_RIGHT/TOP_BOTTOM
BAND_ORGANIZATION: SINGLE FILE
BAND_CONTENT: BLACK&WHITE
BAND_CONTENT: UNDEFINED
BAND_CONTENT: UNDEFINED
BITS_PER_PIXEL: 8
SAMPLES_AND_LINES: 5460 7612
HORIZONTAL_DATUM: NAD83
HORIZONTAL_COORDINATE_SYSTEM: UTM
COORDINATE_ZONE: 13
HORIZONTAL_UNITS: METERS
HORIZONTAL_RESOLUTION: 1.00000
SECONDARY_HORIZONTAL_DATUM: NAD27
XY_ORIGIN: 419350.00000 5247686.00000
SECONDARY_XY_ORIGIN: 419391.15900 5247466.58900
NATION: US
NATION: "SCIENCE
STATE: MT
NW_QUAD_CORNER_XY: 419790.11300 5247385.12400
NE_QUAD_CORNER_XY: 424508.30200 5247322.63200
SE_QUAD_CORNERY_XY: 424419.13900 5240376.90000
SW_QUAD_CORNER_XY: 419695.37700 5240439.40300
SECONDARY_NW_QUAD_XY: 419787.62200 5247166.45200
SECONDARY_NE_QUAD_XY: 424505.95700 5247103.95800
SECONDARY_SE_QUAD_XY: 424416.79500 5240158.24900
SECONDARY_SW_QUAD_XY: 419692.88600 5240220.75400
RMSE_XY: 1.20000
IMAGE_SOURCE: BLACK AND WHITE FILM
SOURCE_IMAGE_ID: NAPP 9089 078
SOURCE_IMAGE_DATE: 1996 07 07
SOURCE_DEM_DATE: 1993 00 00
AGENCY: WESTERN MAPPING CENTER (WMC)
PRODUCER: UNDEFINED
PRODUCTION_SYSTEM: GIS/MAGIC
COMPRESSION: UNDEFINED
STANDARD_VERSION: 1996 12
METADATA_DATE: 2000 11 16
DATA_FILE_SIZE: 41566980
BYTE_COUNT: 5460
