FILENAME: O4710647.NES.1112479.tif
QUADRANGLE_NAME: FLOWING WELL
QUADRANT: NE
WEST_LONGITUDE: -106 11 15.00000
EAST_LONGITUDE: -106 7 30.00000
NORTH_LATITUDE: 47 22 30.00000
SOUTH_LATITUDE: 47 18 45.00000
PRODUCTION_DATE: 2000 11 14
RASTER_ORDER: LEFT_RIGHT/TOP_BOTTOM
BAND_ORGANIZATION: SINGLE FILE
BAND_CONTENT: BLACK&WHITE
BAND_CONTENT: UNDEFINED
BAND_CONTENT: UNDEFINED
BITS_PER_PIXEL: 8
SAMPLES_AND_LINES: 5471 7620
HORIZONTAL_DATUM: NAD83
HORIZONTAL_COORDINATE_SYSTEM: UTM
COORDINATE_ZONE: 13
HORIZONTAL_UNITS: METERS
HORIZONTAL_RESOLUTION: 1.00000
SECONDARY_HORIZONTAL_DATUM: NAD27
XY_ORIGIN: 409902.00000 5247823.00000
SECONDARY_XY_ORIGIN: 409943.29800 5247603.73200
NATION: US
NATION: "SCIENCE
STATE: MT
NW_QUAD_CORNER_XY: 410353.76000 5247521.47300
NE_QUAD_CORNER_XY: 415071.93300 5247451.40400
SE_QUAD_CORNERY_XY: 414971.62300 5240505.69500
SW_QUAD_CORNER_XY: 410247.87600 5240575.77600
SECONDARY_NW_QUAD_XY: 410350.97600 5247302.80500
SECONDARY_NE_QUAD_XY: 415069.29500 5247232.73400
SECONDARY_SE_QUAD_XY: 414968.98500 5240287.04800
SECONDARY_SW_QUAD_XY: 410245.09200 5240357.13100
RMSE_XY: 1.50000
IMAGE_SOURCE: BLACK AND WHITE FILM
SOURCE_IMAGE_ID: NAPP 9121 022
SOURCE_IMAGE_DATE: 1996 09 06
SOURCE_DEM_DATE: 1993 00 00
AGENCY: WESTERN MAPPING CENTER (WMC)
PRODUCER: UNDEFINED
PRODUCTION_SYSTEM: GIS/MAGIC
COMPRESSION: UNDEFINED
STANDARD_VERSION: 1996 12
METADATA_DATE: 2000 11 16
DATA_FILE_SIZE: 41694491
BYTE_COUNT: 5471
