FILENAME: O4710647.NWS.1112480.tif
QUADRANGLE_NAME: FLOWING WELL
QUADRANT: NW
WEST_LONGITUDE: -106 15 0.00000
EAST_LONGITUDE: -106 11 15.00000
NORTH_LATITUDE: 47 22 30.00000
SOUTH_LATITUDE: 47 18 45.00000
PRODUCTION_DATE: 2000 11 14
RASTER_ORDER: LEFT_RIGHT/TOP_BOTTOM
BAND_ORGANIZATION: SINGLE FILE
BAND_CONTENT: BLACK&WHITE
BAND_CONTENT: UNDEFINED
BAND_CONTENT: UNDEFINED
BITS_PER_PIXEL: 8
SAMPLES_AND_LINES: 5477 7623
HORIZONTAL_DATUM: NAD83
HORIZONTAL_COORDINATE_SYSTEM: UTM
COORDINATE_ZONE: 13
HORIZONTAL_UNITS: METERS
HORIZONTAL_RESOLUTION: 1.00000
SECONDARY_HORIZONTAL_DATUM: NAD27
XY_ORIGIN: 405178.00000 5247896.00000
SECONDARY_XY_ORIGIN: 405219.36800 5247676.80400
NATION: US
NATION: "SCIENCE
STATE: MT
NW_QUAD_CORNER_XY: 405635.59700 5247595.33000
NE_QUAD_CORNER_XY: 410353.76000 5247521.47300
SE_QUAD_CORNERY_XY: 410247.87600 5240575.77600
SW_QUAD_CORNER_XY: 405524.13800 5240649.64600
SECONDARY_NW_QUAD_XY: 405632.66600 5247376.66400
SECONDARY_NE_QUAD_XY: 410350.97600 5247302.80500
SECONDARY_SE_QUAD_XY: 410245.09200 5240357.13100
SECONDARY_SW_QUAD_XY: 405521.20700 5240431.00300
RMSE_XY: 1.30000
IMAGE_SOURCE: BLACK AND WHITE FILM
SOURCE_IMAGE_ID: NAPP 9121 011
SOURCE_IMAGE_DATE: 1996 09 06
SOURCE_IMAGE_ID: NAPP 9106 151
SOURCE_IMAGE_DATE: 1996 08 07
SOURCE_DEM_DATE: 1993 00 00
AGENCY: WESTERN MAPPING CENTER (WMC)
PRODUCER: UNDEFINED
PRODUCTION_SYSTEM: GIS/MAGIC
COMPRESSION: UNDEFINED
STANDARD_VERSION: 1996 12
METADATA_DATE: 2000 11 16
DATA_FILE_SIZE: 41756648
BYTE_COUNT: 5477
