FILENAME: O4710646.NES.1112443.tif
QUADRANGLE_NAME: COAL CREEK
QUADRANT: NE
WEST_LONGITUDE: -106 18 45.00000
EAST_LONGITUDE: -106 15 0.00000
NORTH_LATITUDE: 47 22 30.00000
SOUTH_LATITUDE: 47 18 45.00000
PRODUCTION_DATE: 2000 11 14
RASTER_ORDER: LEFT_RIGHT/TOP_BOTTOM
BAND_ORGANIZATION: SINGLE FILE
BAND_CONTENT: BLACK&WHITE
BAND_CONTENT: UNDEFINED
BAND_CONTENT: UNDEFINED
BITS_PER_PIXEL: 8
SAMPLES_AND_LINES: 5483 7627
HORIZONTAL_DATUM: NAD83
HORIZONTAL_COORDINATE_SYSTEM: UTM
COORDINATE_ZONE: 13
HORIZONTAL_UNITS: METERS
HORIZONTAL_RESOLUTION: 1.00000
SECONDARY_HORIZONTAL_DATUM: NAD27
XY_ORIGIN: 400454.00000 5247974.00000
SECONDARY_XY_ORIGIN: 400495.41900 5247754.74600
NATION: US
NATION: "SCIENCE
STATE: MT
NW_QUAD_CORNER_XY: 400917.44200 5247672.97600
NE_QUAD_CORNER_XY: 405635.59700 5247595.33000
SE_QUAD_CORNERY_XY: 405524.13800 5240649.64600
SW_QUAD_CORNER_XY: 400800.40900 5240727.30500
SECONDARY_NW_QUAD_XY: 400914.36500 5247454.31200
SECONDARY_NE_QUAD_XY: 405632.66600 5247376.66400
SECONDARY_SE_QUAD_XY: 405521.20700 5240431.00300
SECONDARY_SW_QUAD_XY: 400797.33200 5240508.66500
RMSE_XY: 3.60000
IMAGE_SOURCE: BLACK AND WHITE FILM
SOURCE_IMAGE_ID: NAPP 9106 150
SOURCE_IMAGE_DATE: 1996 08 07
SOURCE_IMAGE_ID: NAPP 9106 178
SOURCE_IMAGE_DATE: 1996 08 07
SOURCE_IMAGE_ID: NAPP 9121 005
SOURCE_IMAGE_DATE: 1996 09 06
SOURCE_IMAGE_ID: NAPP 9106 149
SOURCE_IMAGE_DATE: 1996 08 07
SOURCE_IMAGE_ID: NAPP 9106 151
SOURCE_IMAGE_DATE: 1996 08 07
SOURCE_DEM_DATE: 1993 00 00
AGENCY: WESTERN MAPPING CENTER (WMC)
PRODUCER: UNDEFINED
PRODUCTION_SYSTEM: GIS/MAGIC
COMPRESSION: UNDEFINED
STANDARD_VERSION: 1996 12
METADATA_DATE: 2000 11 16
DATA_FILE_SIZE: 41824324
BYTE_COUNT: 5483
