FILENAME: O4710645.SES.1112401.tif
QUADRANGLE_NAME: MAXWELL COULEE
QUADRANT: SE
WEST_LONGITUDE: -106 26 15.00000
EAST_LONGITUDE: -106 22 30.00000
NORTH_LATITUDE: 47 18 45.00000
SOUTH_LATITUDE: 47 15 0.00000
PRODUCTION_DATE: 2000 11 13
RASTER_ORDER: LEFT_RIGHT/TOP_BOTTOM
BAND_ORGANIZATION: SINGLE FILE
BAND_CONTENT: BLACK&WHITE
BAND_CONTENT: UNDEFINED
BAND_CONTENT: UNDEFINED
BITS_PER_PIXEL: 8
SAMPLES_AND_LINES: 5500 7634
HORIZONTAL_DATUM: NAD83
HORIZONTAL_COORDINATE_SYSTEM: UTM
COORDINATE_ZONE: 13
HORIZONTAL_UNITS: METERS
HORIZONTAL_RESOLUTION: 1.00000
SECONDARY_HORIZONTAL_DATUM: NAD27
XY_ORIGIN: 390878.00000 5241195.00000
SECONDARY_XY_ORIGIN: 390919.58100 5240975.78900
NATION: US
NATION: "SCIENCE
STATE: MT
NW_QUAD_CORNER_XY: 391352.97900 5240893.99200
NE_QUAD_CORNER_XY: 396076.68900 5240808.75400
SE_QUAD_CORNERY_XY: 395954.20600 5233863.16900
SW_QUAD_CORNER_XY: 391224.92600 5233948.42200
SECONDARY_NW_QUAD_XY: 391349.60900 5240675.35700
SECONDARY_NE_QUAD_XY: 396073.46500 5240590.11600
SECONDARY_SE_QUAD_XY: 395950.98200 5233644.55600
SECONDARY_SW_QUAD_XY: 391221.55600 5233729.81200
RMSE_XY: 2.30000
IMAGE_SOURCE: BLACK AND WHITE FILM
SOURCE_IMAGE_ID: NAPP 9109 161
SOURCE_IMAGE_DATE: 1996 08 11
SOURCE_IMAGE_ID: NAPP 9109 162
SOURCE_IMAGE_DATE: 1996 08 11
SOURCE_DEM_DATE: 1993 00 00
AGENCY: WESTERN MAPPING CENTER (WMC)
PRODUCER: UNDEFINED
PRODUCTION_SYSTEM: GIS/MAGIC
COMPRESSION: UNDEFINED
STANDARD_VERSION: 1996 12
METADATA_DATE: 2000 11 16
DATA_FILE_SIZE: 41992500
BYTE_COUNT: 5500
