FILENAME: O4710644.SWS.1112366.tif
QUADRANGLE_NAME: ADA CREEK
QUADRANT: SW
WEST_LONGITUDE: -106 37 30.00000
EAST_LONGITUDE: -106 33 45.00000
NORTH_LATITUDE: 47 18 45.00000
SOUTH_LATITUDE: 47 15 0.00000
PRODUCTION_DATE: 2000 11 15
RASTER_ORDER: LEFT_RIGHT/TOP_BOTTOM
BAND_ORGANIZATION: SINGLE FILE
BAND_CONTENT: BLACK&WHITE
BAND_CONTENT: UNDEFINED
BAND_CONTENT: UNDEFINED
BITS_PER_PIXEL: 8
SAMPLES_AND_LINES: 5517 7646
HORIZONTAL_DATUM: NAD83
HORIZONTAL_COORDINATE_SYSTEM: UTM
COORDINATE_ZONE: 13
HORIZONTAL_UNITS: METERS
HORIZONTAL_RESOLUTION: 1.00000
SECONDARY_HORIZONTAL_DATUM: NAD27
XY_ORIGIN: 376690.00000 5241474.00000
SECONDARY_XY_ORIGIN: 376731.91100 5241254.55100
NATION: US
NATION: "SCIENCE
STATE: MT
NW_QUAD_CORNER_XY: 377181.91300 5241172.44700
NE_QUAD_CORNER_XY: 381905.59100 5241075.83900
SE_QUAD_CORNERY_XY: 381766.39800 5234130.30000
SW_QUAD_CORNER_XY: 377037.15000 5234226.92500
SECONDARY_NW_QUAD_XY: 377178.10300 5240953.82100
SECONDARY_NE_QUAD_XY: 381901.92700 5240857.20900
SECONDARY_SE_QUAD_XY: 381762.73500 5233911.69500
SECONDARY_SW_QUAD_XY: 377033.34000 5234008.32300
RMSE_XY: 2.60000
IMAGE_SOURCE: BLACK AND WHITE FILM
SOURCE_IMAGE_ID: NAPP 9110 196
SOURCE_IMAGE_DATE: 1996 08 11
SOURCE_IMAGE_ID: NAPP 9110 197
SOURCE_IMAGE_DATE: 1996 08 11
SOURCE_DEM_DATE: 1993 00 00
AGENCY: WESTERN MAPPING CENTER (WMC)
PRODUCER: UNDEFINED
PRODUCTION_SYSTEM: GIS/MAGIC
COMPRESSION: UNDEFINED
STANDARD_VERSION: 1996 12
METADATA_DATE: 2000 11 16
DATA_FILE_SIZE: 42188499
BYTE_COUNT: 5517
