FILENAME: O4710643.NWS.1112315.tif
QUADRANGLE_NAME: BLACK JOHN COULEE
QUADRANT: NW
WEST_LONGITUDE: -106 45 0.00000
EAST_LONGITUDE: -106 41 15.00000
NORTH_LATITUDE: 47 22 30.00000
SOUTH_LATITUDE: 47 18 45.00000
PRODUCTION_DATE: 2000 11 14
RASTER_ORDER: LEFT_RIGHT/TOP_BOTTOM
BAND_ORGANIZATION: SINGLE FILE
BAND_CONTENT: BLACK&WHITE
BAND_CONTENT: UNDEFINED
BAND_CONTENT: UNDEFINED
BITS_PER_PIXEL: 8
SAMPLES_AND_LINES: 5523 7654
HORIZONTAL_DATUM: NAD83
HORIZONTAL_COORDINATE_SYSTEM: UTM
COORDINATE_ZONE: 13
HORIZONTAL_UNITS: METERS
HORIZONTAL_RESOLUTION: 1.00000
SECONDARY_HORIZONTAL_DATUM: NAD27
XY_ORIGIN: 367387.00000 5248624.00000
SECONDARY_XY_ORIGIN: 367429.20000 5248404.22700
NATION: US
NATION: "SCIENCE
STATE: MT
NW_QUAD_CORNER_XY: 367890.65700 5248322.59100
NE_QUAD_CORNER_XY: 372608.73400 5248218.42000
SE_QUAD_CORNERY_XY: 372458.24700 5241272.84600
SW_QUAD_CORNER_XY: 367734.59300 5241377.03500
SECONDARY_NW_QUAD_XY: 367886.55300 5248103.94700
SECONDARY_NE_QUAD_XY: 372604.77700 5247999.77300
SECONDARY_SE_QUAD_XY: 372454.29000 5241054.22200
SECONDARY_SW_QUAD_XY: 367730.49000 5241158.41500
RMSE_XY: 2.00000
IMAGE_SOURCE: BLACK AND WHITE FILM
SOURCE_IMAGE_ID: NAPP 9111 212
SOURCE_IMAGE_DATE: 1996 08 11
SOURCE_IMAGE_ID: NAPP 9111 213
SOURCE_IMAGE_DATE: 1996 08 11
SOURCE_DEM_DATE: 1993 00 00
AGENCY: WESTERN MAPPING CENTER (WMC)
PRODUCER: UNDEFINED
PRODUCTION_SYSTEM: GIS/MAGIC
COMPRESSION: UNDEFINED
STANDARD_VERSION: 1996 12
METADATA_DATE: 2000 11 17
DATA_FILE_SIZE: 42278565
BYTE_COUNT: 5523
