FILENAME: O4710639.NWS.1112476.tif
QUADRANGLE_NAME: FORTYFOUR COULEE
QUADRANT: NW
WEST_LONGITUDE: -106 15 0.00000
EAST_LONGITUDE: -106 11 15.00000
NORTH_LATITUDE: 47 30 0.00000
SOUTH_LATITUDE: 47 26 15.00000
PRODUCTION_DATE: 2000 11 14
RASTER_ORDER: LEFT_RIGHT/TOP_BOTTOM
BAND_ORGANIZATION: SINGLE FILE
BAND_CONTENT: BLACK&WHITE
BAND_CONTENT: UNDEFINED
BAND_CONTENT: UNDEFINED
BITS_PER_PIXEL: 8
SAMPLES_AND_LINES: 5466 7623
HORIZONTAL_DATUM: NAD83
HORIZONTAL_COORDINATE_SYSTEM: UTM
COORDINATE_ZONE: 13
HORIZONTAL_UNITS: METERS
HORIZONTAL_RESOLUTION: 1.00000
SECONDARY_HORIZONTAL_DATUM: NAD27
XY_ORIGIN: 405401.00000 5261788.00000
SECONDARY_XY_ORIGIN: 405442.13400 5261568.61200
NATION: US
NATION: "SCIENCE
STATE: MT
NW_QUAD_CORNER_XY: 405858.85400 5261486.91600
NE_QUAD_CORNER_XY: 410565.85100 5261413.08600
SE_QUAD_CORNERY_XY: 410459.75200 5254467.24300
SW_QUAD_CORNER_XY: 405747.16900 5254541.08700
SECONDARY_NW_QUAD_XY: 405855.92200 5261268.20500
SECONDARY_NE_QUAD_XY: 410563.06600 5261194.37200
SECONDARY_SE_QUAD_XY: 410456.96700 5254248.55200
SECONDARY_SW_QUAD_XY: 405744.23700 5254322.39800
RMSE_XY: 1.60000
IMAGE_SOURCE: BLACK AND WHITE FILM
SOURCE_IMAGE_ID: NAPP 9106 078
SOURCE_IMAGE_DATE: 1996 08 07
SOURCE_IMAGE_ID: NAPP 9106 077
SOURCE_IMAGE_DATE: 1996 08 07
SOURCE_DEM_DATE: 1993 00 00
AGENCY: WESTERN MAPPING CENTER (WMC)
PRODUCER: UNDEFINED
PRODUCTION_SYSTEM: GIS/MAGIC
COMPRESSION: UNDEFINED
STANDARD_VERSION: 1996 12
METADATA_DATE: 2000 11 16
DATA_FILE_SIZE: 41672784
BYTE_COUNT: 5466
