FILENAME: O4710638.NES.1112439.tif
QUADRANGLE_NAME: FRANK COULEE
QUADRANT: NE
WEST_LONGITUDE: -106 18 45.00000
EAST_LONGITUDE: -106 15 0.00000
NORTH_LATITUDE: 47 30 0.00000
SOUTH_LATITUDE: 47 26 15.00000
PRODUCTION_DATE: 2000 11 14
RASTER_ORDER: LEFT_RIGHT/TOP_BOTTOM
BAND_ORGANIZATION: SINGLE FILE
BAND_CONTENT: BLACK&WHITE
BAND_CONTENT: UNDEFINED
BAND_CONTENT: UNDEFINED
BITS_PER_PIXEL: 8
SAMPLES_AND_LINES: 5471 7627
HORIZONTAL_DATUM: NAD83
HORIZONTAL_COORDINATE_SYSTEM: UTM
COORDINATE_ZONE: 13
HORIZONTAL_UNITS: METERS
HORIZONTAL_RESOLUTION: 1.00000
SECONDARY_HORIZONTAL_DATUM: NAD27
XY_ORIGIN: 400689.00000 5261866.00000
SECONDARY_XY_ORIGIN: 400730.23800 5261646.52400
NATION: US
NATION: "SCIENCE
STATE: MT
NW_QUAD_CORNER_XY: 401151.86500 5261564.53300
NE_QUAD_CORNER_XY: 405858.85400 5261486.91600
SE_QUAD_CORNERY_XY: 405747.16900 5254541.08700
SW_QUAD_CORNER_XY: 401034.59500 5254618.71800
SECONDARY_NW_QUAD_XY: 401148.78700 5261345.82400
SECONDARY_NE_QUAD_XY: 405855.92200 5261268.20500
SECONDARY_SE_QUAD_XY: 405744.23700 5254322.39800
SECONDARY_SW_QUAD_XY: 401031.51600 5254400.03200
RMSE_XY: 2.10000
IMAGE_SOURCE: BLACK AND WHITE FILM
SOURCE_IMAGE_ID: NAPP 9106 154
SOURCE_IMAGE_DATE: 1996 08 07
SOURCE_IMAGE_ID: NAPP 9106 155
SOURCE_IMAGE_DATE: 1996 08 07
SOURCE_DEM_DATE: 1993 00 00
AGENCY: WESTERN MAPPING CENTER (WMC)
PRODUCER: UNDEFINED
PRODUCTION_SYSTEM: GIS/MAGIC
COMPRESSION: UNDEFINED
STANDARD_VERSION: 1996 12
METADATA_DATE: 2000 11 16
DATA_FILE_SIZE: 41732788
BYTE_COUNT: 5471
