FILENAME: O4710638.NWS.1112440.tif
QUADRANGLE_NAME: FRANK COULEE
QUADRANT: NW
WEST_LONGITUDE: -106 22 30.00000
EAST_LONGITUDE: -106 18 45.00000
NORTH_LATITUDE: 47 30 0.00000
SOUTH_LATITUDE: 47 26 15.00000
PRODUCTION_DATE: 2000 11 13
RASTER_ORDER: LEFT_RIGHT/TOP_BOTTOM
BAND_ORGANIZATION: SINGLE FILE
BAND_CONTENT: BLACK&WHITE
BAND_CONTENT: UNDEFINED
BAND_CONTENT: UNDEFINED
BITS_PER_PIXEL: 8
SAMPLES_AND_LINES: 5477 7631
HORIZONTAL_DATUM: NAD83
HORIZONTAL_COORDINATE_SYSTEM: UTM
COORDINATE_ZONE: 13
HORIZONTAL_UNITS: METERS
HORIZONTAL_RESOLUTION: 1.00000
SECONDARY_HORIZONTAL_DATUM: NAD27
XY_ORIGIN: 395976.00000 5261947.00000
SECONDARY_XY_ORIGIN: 396017.34500 5261727.44600
NATION: US
NATION: "SCIENCE
STATE: MT
NW_QUAD_CORNER_XY: 396444.88700 5261645.93700
NE_QUAD_CORNER_XY: 401151.86500 5261564.53300
SE_QUAD_CORNERY_XY: 401034.59500 5254618.71800
SW_QUAD_CORNER_XY: 396322.03000 5254700.13800
SECONDARY_NW_QUAD_XY: 396441.66200 5261427.23100
SECONDARY_NE_QUAD_XY: 401148.78700 5261345.82400
SECONDARY_SE_QUAD_XY: 401031.51600 5254400.03200
SECONDARY_SW_QUAD_XY: 396318.80500 5254481.45400
RMSE_XY: 2.10000
IMAGE_SOURCE: BLACK AND WHITE FILM
SOURCE_IMAGE_ID: NAPP 9121 008
SOURCE_IMAGE_DATE: 1996 09 06
SOURCE_IMAGE_ID: NAPP 9109 168
SOURCE_IMAGE_DATE: 1996 08 11
SOURCE_DEM_DATE: 1993 00 00
AGENCY: WESTERN MAPPING CENTER (WMC)
PRODUCER: UNDEFINED
PRODUCTION_SYSTEM: GIS/MAGIC
COMPRESSION: UNDEFINED
STANDARD_VERSION: 1996 12
METADATA_DATE: 2000 11 16
DATA_FILE_SIZE: 41800464
BYTE_COUNT: 5477
