FILENAME: O4710638.SWS.1112442.tif
QUADRANGLE_NAME: FRANK COULEE
QUADRANT: SW
WEST_LONGITUDE: -106 22 30.00000
EAST_LONGITUDE: -106 18 45.00000
NORTH_LATITUDE: 47 26 15.00000
SOUTH_LATITUDE: 47 22 30.00000
PRODUCTION_DATE: 2000 11 13
RASTER_ORDER: LEFT_RIGHT/TOP_BOTTOM
BAND_ORGANIZATION: SINGLE FILE
BAND_CONTENT: BLACK&WHITE
BAND_CONTENT: UNDEFINED
BAND_CONTENT: UNDEFINED
BITS_PER_PIXEL: 8
SAMPLES_AND_LINES: 5483 7631
HORIZONTAL_DATUM: NAD83
HORIZONTAL_COORDINATE_SYSTEM: UTM
COORDINATE_ZONE: 13
HORIZONTAL_UNITS: METERS
HORIZONTAL_RESOLUTION: 1.00000
SECONDARY_HORIZONTAL_DATUM: NAD27
XY_ORIGIN: 395853.00000 5255001.00000
SECONDARY_XY_ORIGIN: 395894.41200 5254781.57100
NATION: US
NATION: "SCIENCE
STATE: MT
NW_QUAD_CORNER_XY: 396322.03000 5254700.13800
NE_QUAD_CORNER_XY: 401034.59500 5254618.71800
SE_QUAD_CORNERY_XY: 400917.44200 5247672.97600
SW_QUAD_CORNER_XY: 396199.29800 5247754.41000
SECONDARY_NW_QUAD_XY: 396318.80500 5254481.45400
SECONDARY_NE_QUAD_XY: 401031.51600 5254400.03200
SECONDARY_SE_QUAD_XY: 400914.36500 5247454.31200
SECONDARY_SW_QUAD_XY: 396196.07300 5247535.74900
RMSE_XY: 2.30000
IMAGE_SOURCE: BLACK AND WHITE FILM
SOURCE_IMAGE_ID: NAPP 9121 006
SOURCE_IMAGE_DATE: 1996 09 06
SOURCE_IMAGE_ID: NAPP 9121 005
SOURCE_IMAGE_DATE: 1996 09 06
SOURCE_IMAGE_ID: NAPP 9106 151
SOURCE_IMAGE_DATE: 1996 08 07
SOURCE_DEM_DATE: 1993 00 00
AGENCY: WESTERN MAPPING CENTER (WMC)
PRODUCER: UNDEFINED
PRODUCTION_SYSTEM: GIS/MAGIC
COMPRESSION: UNDEFINED
STANDARD_VERSION: 1996 12
METADATA_DATE: 2000 11 16
DATA_FILE_SIZE: 41846256
BYTE_COUNT: 5483
