FILENAME: O4710635.NWS.1112327.tif
QUADRANGLE_NAME: BATEMAN COULEE
QUADRANT: NW
WEST_LONGITUDE: -106 45 0.00000
EAST_LONGITUDE: -106 41 15.00000
NORTH_LATITUDE: 47 30 0.00000
SOUTH_LATITUDE: 47 26 15.00000
PRODUCTION_DATE: 2000 11 14
RASTER_ORDER: LEFT_RIGHT/TOP_BOTTOM
BAND_ORGANIZATION: SINGLE FILE
BAND_CONTENT: BLACK&WHITE
BAND_CONTENT: UNDEFINED
BAND_CONTENT: UNDEFINED
BITS_PER_PIXEL: 8
SAMPLES_AND_LINES: 5513 7654
HORIZONTAL_DATUM: NAD83
HORIZONTAL_COORDINATE_SYSTEM: UTM
COORDINATE_ZONE: 13
HORIZONTAL_UNITS: METERS
HORIZONTAL_RESOLUTION: 1.00000
SECONDARY_HORIZONTAL_DATUM: NAD27
XY_ORIGIN: 367699.00000 5262516.00000
SECONDARY_XY_ORIGIN: 367741.21600 5262295.96500
NATION: US
NATION: "SCIENCE
STATE: MT
NW_QUAD_CORNER_XY: 368203.25800 5262213.91000
NE_QUAD_CORNER_XY: 372910.16500 5262109.77800
SE_QUAD_CORNERY_XY: 372759.37300 5255164.06400
SW_QUAD_CORNER_XY: 368046.87800 5255268.21600
SECONDARY_NW_QUAD_XY: 368199.15300 5261995.22200
SECONDARY_NE_QUAD_XY: 372906.20700 5261891.08600
SECONDARY_SE_QUAD_XY: 372755.41600 5254945.39400
SECONDARY_SW_QUAD_XY: 368042.77400 5255049.55000
RMSE_XY: 2.00000
IMAGE_SOURCE: BLACK AND WHITE FILM
SOURCE_IMAGE_ID: NAPP 9111 208
SOURCE_IMAGE_DATE: 1996 08 11
SOURCE_IMAGE_ID: NAPP 9111 207
SOURCE_IMAGE_DATE: 1996 08 11
SOURCE_DEM_DATE: 1993 00 00
AGENCY: WESTERN MAPPING CENTER (WMC)
PRODUCER: UNDEFINED
PRODUCTION_SYSTEM: GIS/MAGIC
COMPRESSION: UNDEFINED
STANDARD_VERSION: 1996 12
METADATA_DATE: 2000 11 16
DATA_FILE_SIZE: 42202015
BYTE_COUNT: 5513
