FILENAME: O4710632.NES.1112595.tif
QUADRANGLE_NAME: RODGERS HALL
QUADRANT: NE
WEST_LONGITUDE: -106 3 45.00000
EAST_LONGITUDE: -106 0 0.00000
NORTH_LATITUDE: 47 37 30.00000
SOUTH_LATITUDE: 47 33 45.00000
PRODUCTION_DATE: 2000 11 14
RASTER_ORDER: LEFT_RIGHT/TOP_BOTTOM
BAND_ORGANIZATION: SINGLE FILE
BAND_CONTENT: BLACK&WHITE
BAND_CONTENT: UNDEFINED
BAND_CONTENT: UNDEFINED
BITS_PER_PIXEL: 8
SAMPLES_AND_LINES: 5437 7612
HORIZONTAL_DATUM: NAD83
HORIZONTAL_COORDINATE_SYSTEM: UTM
COORDINATE_ZONE: 13
HORIZONTAL_UNITS: METERS
HORIZONTAL_RESOLUTION: 1.00000
SECONDARY_HORIZONTAL_DATUM: NAD27
XY_ORIGIN: 419730.00000 5275470.00000
SECONDARY_XY_ORIGIN: 419770.67500 5275250.04800
NATION: US
NATION: "SCIENCE
STATE: MT
NW_QUAD_CORNER_XY: 420170.01900 5275168.74300
NE_QUAD_CORNER_XY: 424865.85600 5275106.29800
SE_QUAD_CORNERY_XY: 424776.33200 5268160.27100
SW_QUAD_CORNER_XY: 420074.89900 5268222.72800
SECONDARY_NW_QUAD_XY: 420167.52600 5274949.98400
SECONDARY_NE_QUAD_XY: 424863.51000 5274887.53700
SECONDARY_SE_QUAD_XY: 424773.98600 5267941.53000
SECONDARY_SW_QUAD_XY: 420072.40600 5268003.99000
RMSE_XY: 2.50000
IMAGE_SOURCE: BLACK AND WHITE FILM
SOURCE_IMAGE_ID: NAPP 9089 086
SOURCE_IMAGE_DATE: 1996 07 07
SOURCE_DEM_DATE: 1993 00 00
AGENCY: WESTERN MAPPING CENTER (WMC)
PRODUCER: UNDEFINED
PRODUCTION_SYSTEM: GIS/MAGIC
COMPRESSION: UNDEFINED
STANDARD_VERSION: 1996 12
METADATA_DATE: 2000 11 16
DATA_FILE_SIZE: 41391881
BYTE_COUNT: 5437
