FILENAME: O4710632.SES.1112597.tif
QUADRANGLE_NAME: RODGERS HALL
QUADRANT: SE
WEST_LONGITUDE: -106 3 45.00000
EAST_LONGITUDE: -106 0 0.00000
NORTH_LATITUDE: 47 33 45.00000
SOUTH_LATITUDE: 47 30 0.00000
PRODUCTION_DATE: 2000 11 14
RASTER_ORDER: LEFT_RIGHT/TOP_BOTTOM
BAND_ORGANIZATION: SINGLE FILE
BAND_CONTENT: BLACK&WHITE
BAND_CONTENT: UNDEFINED
BAND_CONTENT: UNDEFINED
BITS_PER_PIXEL: 8
SAMPLES_AND_LINES: 5443 7612
HORIZONTAL_DATUM: NAD83
HORIZONTAL_COORDINATE_SYSTEM: UTM
COORDINATE_ZONE: 13
HORIZONTAL_UNITS: METERS
HORIZONTAL_RESOLUTION: 1.00000
SECONDARY_HORIZONTAL_DATUM: NAD27
XY_ORIGIN: 419635.00000 5268524.00000
SECONDARY_XY_ORIGIN: 419675.79400 5268304.24600
NATION: US
NATION: "SCIENCE
STATE: MT
NW_QUAD_CORNER_XY: 420074.89900 5268222.72800
NE_QUAD_CORNER_XY: 424776.33200 5268160.27100
SE_QUAD_CORNERY_XY: 424686.89800 5261214.31800
SW_QUAD_CORNER_XY: 419979.87400 5261276.78700
SECONDARY_NW_QUAD_XY: 420072.40600 5268003.99000
SECONDARY_NE_QUAD_XY: 424773.98600 5267941.53000
SECONDARY_SE_QUAD_XY: 424684.55300 5260995.59800
SECONDARY_SW_QUAD_XY: 419977.38200 5261058.06900
RMSE_XY: 2.80000
IMAGE_SOURCE: BLACK AND WHITE FILM
SOURCE_IMAGE_ID: NAPP 9089 084
SOURCE_IMAGE_DATE: 1996 07 07
SOURCE_IMAGE_ID: NAPP 9089 083
SOURCE_IMAGE_DATE: 1996 07 07
SOURCE_DEM_DATE: 1993 00 00
AGENCY: WESTERN MAPPING CENTER (WMC)
PRODUCER: UNDEFINED
PRODUCTION_SYSTEM: GIS/MAGIC
COMPRESSION: UNDEFINED
STANDARD_VERSION: 1996 12
METADATA_DATE: 2000 11 16
DATA_FILE_SIZE: 41437559
BYTE_COUNT: 5443
