FILENAME: O4710631.SES.1112497.tif
QUADRANGLE_NAME: NELSON CREEK BAY
QUADRANT: SE
WEST_LONGITUDE: -106 11 15.00000
EAST_LONGITUDE: -106 7 30.00000
NORTH_LATITUDE: 47 33 45.00000
SOUTH_LATITUDE: 47 30 0.00000
PRODUCTION_DATE: 2000 11 14
RASTER_ORDER: LEFT_RIGHT/TOP_BOTTOM
BAND_ORGANIZATION: SINGLE FILE
BAND_CONTENT: BLACK&WHITE
BAND_CONTENT: UNDEFINED
BAND_CONTENT: UNDEFINED
BITS_PER_PIXEL: 8
SAMPLES_AND_LINES: 5454 7619
HORIZONTAL_DATUM: NAD83
HORIZONTAL_COORDINATE_SYSTEM: UTM
COORDINATE_ZONE: 13
HORIZONTAL_UNITS: METERS
HORIZONTAL_RESOLUTION: 1.00000
SECONDARY_HORIZONTAL_DATUM: NAD27
XY_ORIGIN: 410221.00000 5268660.00000
SECONDARY_XY_ORIGIN: 410261.93700 5268440.31900
NATION: US
NATION: "SCIENCE
STATE: MT
NW_QUAD_CORNER_XY: 410672.05800 5268359.00100
NE_QUAD_CORNER_XY: 415373.47400 5268288.97200
SE_QUAD_CORNERY_XY: 415272.85900 5261343.04300
SW_QUAD_CORNER_XY: 410565.85100 5261413.08600
SECONDARY_NW_QUAD_XY: 410669.27200 5268140.26700
SECONDARY_NE_QUAD_XY: 415370.83500 5268070.23500
SECONDARY_SE_QUAD_XY: 415270.22000 5261124.32700
SECONDARY_SW_QUAD_XY: 410563.06600 5261194.37200
RMSE_XY: 1.70000
IMAGE_SOURCE: BLACK AND WHITE FILM
SOURCE_IMAGE_ID: NAPP 9106 049
SOURCE_IMAGE_DATE: 1996 08 07
SOURCE_IMAGE_ID: NAPP 9121 026
SOURCE_IMAGE_DATE: 1996 09 06
SOURCE_IMAGE_ID: NAPP 9090 022
SOURCE_IMAGE_DATE: 1996 07 07
SOURCE_DEM_DATE: 1993 00 00
AGENCY: WESTERN MAPPING CENTER (WMC)
PRODUCER: UNDEFINED
PRODUCTION_SYSTEM: GIS/MAGIC
COMPRESSION: UNDEFINED
STANDARD_VERSION: 1996 12
METADATA_DATE: 2000 11 16
DATA_FILE_SIZE: 41559480
BYTE_COUNT: 5454
