FILENAME: O4710629.NES.1112415.tif
QUADRANGLE_NAME: FLAT CREEK SCHOOL
QUADRANT: NE
WEST_LONGITUDE: -106 26 15.00000
EAST_LONGITUDE: -106 22 30.00000
NORTH_LATITUDE: 47 37 30.00000
SOUTH_LATITUDE: 47 33 45.00000
PRODUCTION_DATE: 2000 11 13
RASTER_ORDER: LEFT_RIGHT/TOP_BOTTOM
BAND_ORGANIZATION: SINGLE FILE
BAND_CONTENT: BLACK&WHITE
BAND_CONTENT: UNDEFINED
BAND_CONTENT: UNDEFINED
BITS_PER_PIXEL: 8
SAMPLES_AND_LINES: 5472 7636
HORIZONTAL_DATUM: NAD83
HORIZONTAL_COORDINATE_SYSTEM: UTM
COORDINATE_ZONE: 13
HORIZONTAL_UNITS: METERS
HORIZONTAL_RESOLUTION: 1.00000
SECONDARY_HORIZONTAL_DATUM: NAD27
XY_ORIGIN: 391520.00000 5275925.00000
SECONDARY_XY_ORIGIN: 391561.27600 5275704.87100
NATION: US
NATION: "SCIENCE
STATE: MT
NW_QUAD_CORNER_XY: 391995.19600 5275622.91100
NE_QUAD_CORNER_XY: 396690.97300 5275537.75200
SE_QUAD_CORNERY_XY: 396567.86800 5268591.80900
SW_QUAD_CORNER_XY: 391866.49300 5268676.98500
SECONDARY_NW_QUAD_XY: 391991.82300 5275404.16600
SECONDARY_NE_QUAD_XY: 396687.74700 5275319.00400
SECONDARY_SE_QUAD_XY: 396564.64300 5268373.08100
SECONDARY_SW_QUAD_XY: 391863.12100 5268458.26000
RMSE_XY: 0.90000
IMAGE_SOURCE: BLACK AND WHITE FILM
SOURCE_IMAGE_ID: NAPP 9109 171
SOURCE_IMAGE_DATE: 1996 08 11
SOURCE_DEM_DATE: 1971 00 00
AGENCY: WESTERN MAPPING CENTER (WMC)
PRODUCER: UNDEFINED
PRODUCTION_SYSTEM: GIS/MAGIC
COMPRESSION: UNDEFINED
STANDARD_VERSION: 1996 12
METADATA_DATE: 2000 11 16
DATA_FILE_SIZE: 41789664
BYTE_COUNT: 5472
