FILENAME: O4710629.SES.1112417.tif
QUADRANGLE_NAME: FLAT CREEK SCHOOL
QUADRANT: SE
WEST_LONGITUDE: -106 26 15.00000
EAST_LONGITUDE: -106 22 30.00000
NORTH_LATITUDE: 47 33 45.00000
SOUTH_LATITUDE: 47 30 0.00000
PRODUCTION_DATE: 2000 11 13
RASTER_ORDER: LEFT_RIGHT/TOP_BOTTOM
BAND_ORGANIZATION: SINGLE FILE
BAND_CONTENT: BLACK&WHITE
BAND_CONTENT: UNDEFINED
BAND_CONTENT: UNDEFINED
BITS_PER_PIXEL: 8
SAMPLES_AND_LINES: 5477 7636
HORIZONTAL_DATUM: NAD83
HORIZONTAL_COORDINATE_SYSTEM: UTM
COORDINATE_ZONE: 13
HORIZONTAL_UNITS: METERS
HORIZONTAL_RESOLUTION: 1.00000
SECONDARY_HORIZONTAL_DATUM: NAD27
XY_ORIGIN: 391392.00000 5268979.00000
SECONDARY_XY_ORIGIN: 391433.36500 5268759.11400
NATION: US
NATION: "SCIENCE
STATE: MT
NW_QUAD_CORNER_XY: 391866.49300 5268676.98500
NE_QUAD_CORNER_XY: 396567.86800 5268591.80900
SE_QUAD_CORNERY_XY: 396444.88700 5261645.93700
SW_QUAD_CORNER_XY: 391737.92000 5261731.13000
SECONDARY_NW_QUAD_XY: 391863.12100 5268458.26000
SECONDARY_NE_QUAD_XY: 396564.64300 5268373.08100
SECONDARY_SE_QUAD_XY: 396441.66200 5261427.23100
SECONDARY_SW_QUAD_XY: 391734.54800 5261512.42600
RMSE_XY: 0.70000
IMAGE_SOURCE: BLACK AND WHITE FILM
SOURCE_IMAGE_ID: NAPP 9109 169
SOURCE_IMAGE_DATE: 1996 08 11
SOURCE_IMAGE_ID: NAPP 9109 168
SOURCE_IMAGE_DATE: 1996 08 11
SOURCE_DEM_DATE: 1971 00 00
AGENCY: WESTERN MAPPING CENTER (WMC)
PRODUCER: UNDEFINED
PRODUCTION_SYSTEM: GIS/MAGIC
COMPRESSION: UNDEFINED
STANDARD_VERSION: 1996 12
METADATA_DATE: 2000 11 16
DATA_FILE_SIZE: 41827849
BYTE_COUNT: 5477
