FILENAME: O4710626.SES.1112280.tif
QUADRANGLE_NAME: BUFFALO HILL
QUADRANT: SE
WEST_LONGITUDE: -106 48 45.00000
EAST_LONGITUDE: -106 45 0.00000
NORTH_LATITUDE: 47 33 45.00000
SOUTH_LATITUDE: 47 30 0.00000
PRODUCTION_DATE: 2000 11 13
RASTER_ORDER: LEFT_RIGHT/TOP_BOTTOM
BAND_ORGANIZATION: SINGLE FILE
BAND_CONTENT: BLACK&WHITE
BAND_CONTENT: UNDEFINED
BAND_CONTENT: UNDEFINED
BITS_PER_PIXEL: 8
SAMPLES_AND_LINES: 5513 7659
HORIZONTAL_DATUM: NAD83
HORIZONTAL_COORDINATE_SYSTEM: UTM
COORDINATE_ZONE: 13
HORIZONTAL_UNITS: METERS
HORIZONTAL_RESOLUTION: 1.00000
SECONDARY_HORIZONTAL_DATUM: NAD27
XY_ORIGIN: 363148.00000 5269570.00000
SECONDARY_XY_ORIGIN: 363190.31000 5269349.68900
NATION: US
NATION: "SCIENCE
STATE: MT
NW_QUAD_CORNER_XY: 363658.49600 5269267.57400
NE_QUAD_CORNER_XY: 368359.79600 5269159.67400
SE_QUAD_CORNERY_XY: 368203.25800 5262213.91000
SW_QUAD_CORNER_XY: 363496.36400 5262321.83200
SECONDARY_NW_QUAD_XY: 363654.24400 5269048.86800
SECONDARY_NE_QUAD_XY: 368355.69000 5268940.96400
SECONDARY_SE_QUAD_XY: 368199.15300 5261995.22200
SECONDARY_SW_QUAD_XY: 363492.11300 5262103.14700
RMSE_XY: 2.10000
IMAGE_SOURCE: BLACK AND WHITE FILM
SOURCE_IMAGE_ID: NAPP 9109 045
SOURCE_IMAGE_DATE: 1996 08 11
SOURCE_IMAGE_ID: NAPP 10723 045
SOURCE_IMAGE_DATE: 1997 08 28
SOURCE_IMAGE_ID: NAPP 9109 044
SOURCE_IMAGE_DATE: 1996 08 11
SOURCE_IMAGE_ID: NAPP 9109 046
SOURCE_IMAGE_DATE: 1996 08 11
SOURCE_DEM_DATE: 1993 00 00
AGENCY: WESTERN MAPPING CENTER (WMC)
PRODUCER: UNDEFINED
PRODUCTION_SYSTEM: GIS/MAGIC
COMPRESSION: UNDEFINED
STANDARD_VERSION: 1996 12
METADATA_DATE: 2000 11 17
DATA_FILE_SIZE: 42229580
BYTE_COUNT: 5513
