FILENAME: O4710625.NES.1112242.tif
QUADRANGLE_NAME: MALONEY HILL
QUADRANT: NE
WEST_LONGITUDE: -106 56 15.00000
EAST_LONGITUDE: -106 52 30.00000
NORTH_LATITUDE: 47 37 30.00000
SOUTH_LATITUDE: 47 33 45.00000
PRODUCTION_DATE: 2000 11 16
RASTER_ORDER: LEFT_RIGHT/TOP_BOTTOM
BAND_ORGANIZATION: SINGLE FILE
BAND_CONTENT: BLACK&WHITE
BAND_CONTENT: UNDEFINED
BAND_CONTENT: UNDEFINED
BITS_PER_PIXEL: 8
SAMPLES_AND_LINES: 5520 7666
HORIZONTAL_DATUM: NAD83
HORIZONTAL_COORDINATE_SYSTEM: UTM
COORDINATE_ZONE: 13
HORIZONTAL_UNITS: METERS
HORIZONTAL_RESOLUTION: 1.00000
SECONDARY_HORIZONTAL_DATUM: NAD27
XY_ORIGIN: 353907.00000 5276743.00000
SECONDARY_XY_ORIGIN: 353949.53200 5276522.38700
NATION: US
NATION: "SCIENCE
STATE: MT
NW_QUAD_CORNER_XY: 354429.43400 5276440.50800
NE_QUAD_CORNER_XY: 359125.10500 5276325.05300
SE_QUAD_CORNERY_XY: 358957.21000 5269379.26400
SW_QUAD_CORNER_XY: 354255.94000 5269494.74100
SECONDARY_NW_QUAD_XY: 354424.88900 5276221.78900
SECONDARY_NE_QUAD_XY: 359120.70600 5276106.33000
SECONDARY_SE_QUAD_XY: 358952.81200 5269160.56100
SECONDARY_SW_QUAD_XY: 354251.39400 5269276.04200
RMSE_XY: 1.80000
IMAGE_SOURCE: BLACK AND WHITE FILM
SOURCE_IMAGE_ID: NAPP 9085 106
SOURCE_IMAGE_DATE: 1996 06 13
SOURCE_IMAGE_ID: NAPP 9101 018
SOURCE_IMAGE_DATE: 1996 07 15
SOURCE_IMAGE_ID: NAPP 9085 107
SOURCE_IMAGE_DATE: 1996 06 13
SOURCE_IMAGE_ID: NAPP 9085 105
SOURCE_IMAGE_DATE: 1996 06 13
SOURCE_DEM_DATE: 1993 00 00
AGENCY: WESTERN MAPPING CENTER (WMC)
PRODUCER: UNDEFINED
PRODUCTION_SYSTEM: GIS/MAGIC
COMPRESSION: UNDEFINED
STANDARD_VERSION: 1996 12
METADATA_DATE: 2000 11 17
DATA_FILE_SIZE: 42321840
BYTE_COUNT: 5520
