FILENAME: O4710625.SES.1112244.tif
QUADRANGLE_NAME: MALONEY HILL
QUADRANT: SE
WEST_LONGITUDE: -106 56 15.00000
EAST_LONGITUDE: -106 52 30.00000
NORTH_LATITUDE: 47 33 45.00000
SOUTH_LATITUDE: 47 30 0.00000
PRODUCTION_DATE: 2000 11 16
RASTER_ORDER: LEFT_RIGHT/TOP_BOTTOM
BAND_ORGANIZATION: SINGLE FILE
BAND_CONTENT: BLACK&WHITE
BAND_CONTENT: UNDEFINED
BAND_CONTENT: UNDEFINED
BITS_PER_PIXEL: 8
SAMPLES_AND_LINES: 5525 7666
HORIZONTAL_DATUM: NAD83
HORIZONTAL_COORDINATE_SYSTEM: UTM
COORDINATE_ZONE: 13
HORIZONTAL_UNITS: METERS
HORIZONTAL_RESOLUTION: 1.00000
SECONDARY_HORIZONTAL_DATUM: NAD27
XY_ORIGIN: 353734.00000 5269797.00000
SECONDARY_XY_ORIGIN: 353776.56600 5269576.56200
NATION: US
NATION: "SCIENCE
STATE: MT
NW_QUAD_CORNER_XY: 354255.94000 5269494.74100
NE_QUAD_CORNER_XY: 358957.21000 5269379.26400
SE_QUAD_CORNERY_XY: 358789.48500 5262433.54200
SW_QUAD_CORNER_XY: 354082.61900 5262549.04200
SECONDARY_NW_QUAD_XY: 354251.39400 5269276.04200
SECONDARY_NE_QUAD_XY: 358952.81200 5269160.56100
SECONDARY_SE_QUAD_XY: 358785.08600 5262214.86100
SECONDARY_SW_QUAD_XY: 354078.07500 5262330.36400
RMSE_XY: 1.90000
IMAGE_SOURCE: BLACK AND WHITE FILM
SOURCE_IMAGE_ID: NAPP 9085 108
SOURCE_IMAGE_DATE: 1996 06 13
SOURCE_IMAGE_ID: NAPP 9085 109
SOURCE_IMAGE_DATE: 1996 06 13
SOURCE_IMAGE_ID: NAPP 9085 107
SOURCE_IMAGE_DATE: 1996 06 13
SOURCE_DEM_DATE: 1993 00 00
AGENCY: WESTERN MAPPING CENTER (WMC)
PRODUCER: UNDEFINED
PRODUCTION_SYSTEM: GIS/MAGIC
COMPRESSION: UNDEFINED
STANDARD_VERSION: 1996 12
METADATA_DATE: 2000 11 17
DATA_FILE_SIZE: 42360175
BYTE_COUNT: 5525
