FILENAME: O4710623.NWS.1112492.tif
QUADRANGLE_NAME: BUG CREEK
QUADRANT: NW
WEST_LONGITUDE: -106 15 0.00000
EAST_LONGITUDE: -106 11 15.00000
NORTH_LATITUDE: 47 45 0.00000
SOUTH_LATITUDE: 47 41 15.00000
PRODUCTION_DATE: 2000 11 16
RASTER_ORDER: LEFT_RIGHT/TOP_BOTTOM
BAND_ORGANIZATION: SINGLE FILE
BAND_CONTENT: BLACK&WHITE
BAND_CONTENT: UNDEFINED
BAND_CONTENT: UNDEFINED
BITS_PER_PIXEL: 8
SAMPLES_AND_LINES: 5444 7624
HORIZONTAL_DATUM: NAD83
HORIZONTAL_COORDINATE_SYSTEM: UTM
COORDINATE_ZONE: 13
HORIZONTAL_UNITS: METERS
HORIZONTAL_RESOLUTION: 1.00000
SECONDARY_HORIZONTAL_DATUM: NAD27
XY_ORIGIN: 405849.00000 5289573.00000
SECONDARY_XY_ORIGIN: 405889.63000 5289352.60000
NATION: US
NATION: "SCIENCE
STATE: MT
NW_QUAD_CORNER_XY: 406306.72000 5289270.95700
NE_QUAD_CORNER_XY: 410991.31900 5289197.18500
SE_QUAD_CORNERY_XY: 410884.79200 5282251.05100
SW_QUAD_CORNER_XY: 406194.58500 5282324.83800
SECONDARY_NW_QUAD_XY: 406303.78700 5289052.16600
SECONDARY_NE_QUAD_XY: 410988.53300 5288978.39200
SECONDARY_SE_QUAD_XY: 410882.00600 5282032.27600
SECONDARY_SW_QUAD_XY: 406191.65200 5282106.06600
RMSE_XY: 3.90000
IMAGE_SOURCE: BLACK AND WHITE FILM
SOURCE_IMAGE_ID: NAPP 9106 070
SOURCE_IMAGE_DATE: 1996 08 07
SOURCE_DEM_DATE: 1993 00 00
AGENCY: WESTERN MAPPING CENTER (WMC)
PRODUCER: UNDEFINED
PRODUCTION_SYSTEM: GIS/MAGIC
COMPRESSION: UNDEFINED
STANDARD_VERSION: 1996 12
METADATA_DATE: 2000 11 16
DATA_FILE_SIZE: 41510500
BYTE_COUNT: 5444
