FILENAME: O4710622.NES.1112455.tif
QUADRANGLE_NAME: ASH CREEK EAST
QUADRANT: NE
WEST_LONGITUDE: -106 18 45.00000
EAST_LONGITUDE: -106 15 0.00000
NORTH_LATITUDE: 47 45 0.00000
SOUTH_LATITUDE: 47 41 15.00000
PRODUCTION_DATE: 2000 11 15
RASTER_ORDER: LEFT_RIGHT/TOP_BOTTOM
BAND_ORGANIZATION: SINGLE FILE
BAND_CONTENT: BLACK&WHITE
BAND_CONTENT: UNDEFINED
BAND_CONTENT: UNDEFINED
BITS_PER_PIXEL: 8
SAMPLES_AND_LINES: 5449 7629
HORIZONTAL_DATUM: NAD83
HORIZONTAL_COORDINATE_SYSTEM: UTM
COORDINATE_ZONE: 13
HORIZONTAL_UNITS: METERS
HORIZONTAL_RESOLUTION: 1.00000
SECONDARY_HORIZONTAL_DATUM: NAD27
XY_ORIGIN: 401159.00000 5289651.00000
SECONDARY_XY_ORIGIN: 401199.78900 5289430.52300
NATION: US
NATION: "SCIENCE
STATE: MT
NW_QUAD_CORNER_XY: 401622.13200 5289348.51300
NE_QUAD_CORNER_XY: 406306.72000 5289270.95700
SE_QUAD_CORNERY_XY: 406194.58500 5282324.83800
SW_QUAD_CORNER_XY: 401504.38800 5282402.41000
SECONDARY_NW_QUAD_XY: 401619.05200 5289129.72400
SECONDARY_NE_QUAD_XY: 406303.78700 5289052.16600
SECONDARY_SE_QUAD_XY: 406191.65200 5282106.06600
SECONDARY_SW_QUAD_XY: 401501.30800 5282183.64000
RMSE_XY: 1.70000
IMAGE_SOURCE: BLACK AND WHITE FILM
SOURCE_IMAGE_ID: NAPP 9106 162
SOURCE_IMAGE_DATE: 1996 08 07
SOURCE_DEM_DATE: 1971 00 00
AGENCY: WESTERN MAPPING CENTER (WMC)
PRODUCER: UNDEFINED
PRODUCTION_SYSTEM: GIS/MAGIC
COMPRESSION: UNDEFINED
STANDARD_VERSION: 1996 12
METADATA_DATE: 2000 11 16
DATA_FILE_SIZE: 41575870
BYTE_COUNT: 5449
