FILENAME: O4710622.SWS.1112458.tif
QUADRANGLE_NAME: ASH CREEK EAST
QUADRANT: SW
WEST_LONGITUDE: -106 22 30.00000
EAST_LONGITUDE: -106 18 45.00000
NORTH_LATITUDE: 47 41 15.00000
SOUTH_LATITUDE: 47 37 30.00000
PRODUCTION_DATE: 2000 11 15
RASTER_ORDER: LEFT_RIGHT/TOP_BOTTOM
BAND_ORGANIZATION: SINGLE FILE
BAND_CONTENT: BLACK&WHITE
BAND_CONTENT: UNDEFINED
BAND_CONTENT: UNDEFINED
BITS_PER_PIXEL: 8
SAMPLES_AND_LINES: 5461 7632
HORIZONTAL_DATUM: NAD83
HORIZONTAL_COORDINATE_SYSTEM: UTM
COORDINATE_ZONE: 13
HORIZONTAL_UNITS: METERS
HORIZONTAL_RESOLUTION: 1.00000
SECONDARY_HORIZONTAL_DATUM: NAD27
XY_ORIGIN: 396345.00000 5282786.00000
SECONDARY_XY_ORIGIN: 396386.04500 5282565.69900
NATION: US
NATION: "SCIENCE
STATE: MT
NW_QUAD_CORNER_XY: 396814.20200 5282483.76600
NE_QUAD_CORNER_XY: 401504.38800 5282402.41000
SE_QUAD_CORNERY_XY: 401386.76200 5275456.37900
SW_QUAD_CORNER_XY: 396690.97300 5275537.75200
SECONDARY_NW_QUAD_XY: 396810.97600 5282264.99900
SECONDARY_NE_QUAD_XY: 401501.30800 5282183.64000
SECONDARY_SE_QUAD_XY: 401383.68300 5275237.62800
SECONDARY_SW_QUAD_XY: 396687.74700 5275319.00400
RMSE_XY: 1.00000
IMAGE_SOURCE: BLACK AND WHITE FILM
SOURCE_IMAGE_ID: NAPP 9106 167
SOURCE_IMAGE_DATE: 1996 08 07
SOURCE_DEM_DATE: 1971 00 00
AGENCY: WESTERN MAPPING CENTER (WMC)
PRODUCER: UNDEFINED
PRODUCTION_SYSTEM: GIS/MAGIC
COMPRESSION: UNDEFINED
STANDARD_VERSION: 1996 12
METADATA_DATE: 2000 11 16
DATA_FILE_SIZE: 41683813
BYTE_COUNT: 5461
