FILENAME: O4710621.NES.1112411.tif
QUADRANGLE_NAME: ASH CREEK WEST
QUADRANT: NE
WEST_LONGITUDE: -106 26 15.00000
EAST_LONGITUDE: -106 22 30.00000
NORTH_LATITUDE: 47 45 0.00000
SOUTH_LATITUDE: 47 41 15.00000
PRODUCTION_DATE: 2000 11 15
RASTER_ORDER: LEFT_RIGHT/TOP_BOTTOM
BAND_ORGANIZATION: SINGLE FILE
BAND_CONTENT: BLACK&WHITE
BAND_CONTENT: UNDEFINED
BAND_CONTENT: UNDEFINED
BITS_PER_PIXEL: 8
SAMPLES_AND_LINES: 5461 7636
HORIZONTAL_DATUM: NAD83
HORIZONTAL_COORDINATE_SYSTEM: UTM
COORDINATE_ZONE: 13
HORIZONTAL_UNITS: METERS
HORIZONTAL_RESOLUTION: 1.00000
SECONDARY_HORIZONTAL_DATUM: NAD27
XY_ORIGIN: 391778.00000 5289817.00000
SECONDARY_XY_ORIGIN: 391819.09900 5289596.38800
NATION: US
NATION: "SCIENCE
STATE: MT
NW_QUAD_CORNER_XY: 392252.98900 5289514.97800
NE_QUAD_CORNER_XY: 396937.55500 5289429.85300
SE_QUAD_CORNERY_XY: 396814.20200 5282483.76600
SW_QUAD_CORNER_XY: 392124.02800 5282568.90900
SECONDARY_NW_QUAD_XY: 392249.61600 5289296.19500
SECONDARY_NE_QUAD_XY: 396934.32800 5289211.06700
SECONDARY_SE_QUAD_XY: 396810.97600 5282264.99900
SECONDARY_SW_QUAD_XY: 392120.65500 5282350.14400
RMSE_XY: 0.90000
IMAGE_SOURCE: BLACK AND WHITE FILM
SOURCE_IMAGE_ID: NAPP 9109 175
SOURCE_IMAGE_DATE: 1996 08 11
SOURCE_DEM_DATE: 1971 00 00
AGENCY: WESTERN MAPPING CENTER (WMC)
PRODUCER: UNDEFINED
PRODUCTION_SYSTEM: GIS/MAGIC
COMPRESSION: UNDEFINED
STANDARD_VERSION: 1996 12
METADATA_DATE: 2000 11 16
DATA_FILE_SIZE: 41705657
BYTE_COUNT: 5461
