FILENAME: O4710620.SES.1112377.tif
QUADRANGLE_NAME: GILBERT CREEK
QUADRANT: SE
WEST_LONGITUDE: -106 33 45.00000
EAST_LONGITUDE: -106 30 0.00000
NORTH_LATITUDE: 47 41 15.00000
SOUTH_LATITUDE: 47 37 30.00000
PRODUCTION_DATE: 2000 11 15
RASTER_ORDER: LEFT_RIGHT/TOP_BOTTOM
BAND_ORGANIZATION: SINGLE FILE
BAND_CONTENT: BLACK&WHITE
BAND_CONTENT: UNDEFINED
BAND_CONTENT: UNDEFINED
BITS_PER_PIXEL: 8
SAMPLES_AND_LINES: 5478 7644
HORIZONTAL_DATUM: NAD83
HORIZONTAL_COORDINATE_SYSTEM: UTM
COORDINATE_ZONE: 13
HORIZONTAL_UNITS: METERS
HORIZONTAL_RESOLUTION: 1.00000
SECONDARY_HORIZONTAL_DATUM: NAD27
XY_ORIGIN: 382257.00000 5283053.00000
SECONDARY_XY_ORIGIN: 382298.53200 5282832.50300
NATION: US
NATION: "SCIENCE
STATE: MT
NW_QUAD_CORNER_XY: 382743.71500 5282750.55000
NE_QUAD_CORNER_XY: 387433.86500 5282657.83700
SE_QUAD_CORNERY_XY: 387299.42900 5275711.85700
SW_QUAD_CORNER_XY: 382603.67500 5275804.58900
SECONDARY_NW_QUAD_XY: 382740.04900 5282531.79100
SECONDARY_NE_QUAD_XY: 387430.34600 5282439.07500
SECONDARY_SE_QUAD_XY: 387295.91000 5275493.11500
SECONDARY_SW_QUAD_XY: 382600.00900 5275585.84900
RMSE_XY: 1.00000
IMAGE_SOURCE: BLACK AND WHITE FILM
SOURCE_IMAGE_ID: NAPP 9110 095
SOURCE_IMAGE_DATE: 1996 08 11
SOURCE_IMAGE_ID: NAPP 9110 094
SOURCE_IMAGE_DATE: 1996 08 11
SOURCE_DEM_DATE: 1971 00 00
AGENCY: WESTERN MAPPING CENTER (WMC)
PRODUCER: UNDEFINED
PRODUCTION_SYSTEM: GIS/MAGIC
COMPRESSION: UNDEFINED
STANDARD_VERSION: 1996 12
METADATA_DATE: 2000 11 16
DATA_FILE_SIZE: 41879310
BYTE_COUNT: 5478
