FILENAME: O4710620.SWS.1112378.tif
QUADRANGLE_NAME: GILBERT CREEK
QUADRANT: SW
WEST_LONGITUDE: -106 37 30.00000
EAST_LONGITUDE: -106 33 45.00000
NORTH_LATITUDE: 47 41 15.00000
SOUTH_LATITUDE: 47 37 30.00000
PRODUCTION_DATE: 2000 11 15
RASTER_ORDER: LEFT_RIGHT/TOP_BOTTOM
BAND_ORGANIZATION: SINGLE FILE
BAND_CONTENT: BLACK&WHITE
BAND_CONTENT: UNDEFINED
BAND_CONTENT: UNDEFINED
BITS_PER_PIXEL: 8
SAMPLES_AND_LINES: 5484 7647
HORIZONTAL_DATUM: NAD83
HORIZONTAL_COORDINATE_SYSTEM: UTM
COORDINATE_ZONE: 13
HORIZONTAL_UNITS: METERS
HORIZONTAL_RESOLUTION: 1.00000
SECONDARY_HORIZONTAL_DATUM: NAD27
XY_ORIGIN: 377561.00000 5283149.00000
SECONDARY_XY_ORIGIN: 377602.72800 5282928.44800
NATION: US
NATION: "SCIENCE
STATE: MT
NW_QUAD_CORNER_XY: 378053.57800 5282847.05000
NE_QUAD_CORNER_XY: 382743.71500 5282750.55000
SE_QUAD_CORNERY_XY: 382603.67500 5275804.58900
SW_QUAD_CORNER_XY: 377907.93400 5275901.10800
SECONDARY_NW_QUAD_XY: 378049.76500 5282628.29400
SECONDARY_NE_QUAD_XY: 382740.04900 5282531.79100
SECONDARY_SE_QUAD_XY: 382600.00900 5275585.84900
SECONDARY_SW_QUAD_XY: 377904.12100 5275682.37100
RMSE_XY: 1.40000
IMAGE_SOURCE: BLACK AND WHITE FILM
SOURCE_IMAGE_ID: NAPP 9110 184
SOURCE_IMAGE_DATE: 1996 08 11
SOURCE_IMAGE_ID: NAPP 9111 114
SOURCE_IMAGE_DATE: 1996 08 11
SOURCE_IMAGE_ID: NAPP 9110 183
SOURCE_IMAGE_DATE: 1996 08 11
SOURCE_DEM_DATE: 1971 00 00
AGENCY: WESTERN MAPPING CENTER (WMC)
PRODUCER: UNDEFINED
PRODUCTION_SYSTEM: GIS/MAGIC
COMPRESSION: UNDEFINED
STANDARD_VERSION: 1996 12
METADATA_DATE: 2000 11 16
DATA_FILE_SIZE: 41941632
BYTE_COUNT: 5484
