FILENAME: O4710619.NWS.1112319.tif
QUADRANGLE_NAME: SIGNAL BUTTE
QUADRANT: NW
WEST_LONGITUDE: -106 45 0.00000
EAST_LONGITUDE: -106 41 15.00000
NORTH_LATITUDE: 47 45 0.00000
SOUTH_LATITUDE: 47 41 15.00000
PRODUCTION_DATE: 2000 11 14
RASTER_ORDER: LEFT_RIGHT/TOP_BOTTOM
BAND_ORGANIZATION: SINGLE FILE
BAND_CONTENT: BLACK&WHITE
BAND_CONTENT: UNDEFINED
BAND_CONTENT: UNDEFINED
BITS_PER_PIXEL: 8
SAMPLES_AND_LINES: 5490 7655
HORIZONTAL_DATUM: NAD83
HORIZONTAL_COORDINATE_SYSTEM: UTM
COORDINATE_ZONE: 13
HORIZONTAL_UNITS: METERS
HORIZONTAL_RESOLUTION: 1.00000
SECONDARY_HORIZONTAL_DATUM: NAD27
XY_ORIGIN: 368326.00000 5290300.00000
SECONDARY_XY_ORIGIN: 368368.09000 5290079.12900
NATION: US
NATION: "SCIENCE
STATE: MT
NW_QUAD_CORNER_XY: 368830.35400 5289997.37700
NE_QUAD_CORNER_XY: 373514.85400 5289893.32600
SE_QUAD_CORNERY_XY: 373363.45400 5282947.33500
SW_QUAD_CORNER_XY: 368673.34400 5283051.40700
SECONDARY_NW_QUAD_XY: 368826.24800 5289778.60900
SECONDARY_NE_QUAD_XY: 373510.89400 5289674.55500
SECONDARY_SE_QUAD_XY: 373359.49400 5282728.58200
SECONDARY_SW_QUAD_XY: 368669.23800 5282832.65700
RMSE_XY: 1.30000
IMAGE_SOURCE: BLACK AND WHITE FILM
SOURCE_IMAGE_ID: NAPP 9111 200
SOURCE_IMAGE_DATE: 1996 08 11
SOURCE_IMAGE_ID: NAPP 9109 050
SOURCE_IMAGE_DATE: 1996 08 11
SOURCE_DEM_DATE: 1971 00 00
AGENCY: WESTERN MAPPING CENTER (WMC)
PRODUCER: UNDEFINED
PRODUCTION_SYSTEM: GIS/MAGIC
COMPRESSION: UNDEFINED
STANDARD_VERSION: 1996 12
METADATA_DATE: 2000 11 16
DATA_FILE_SIZE: 42031440
BYTE_COUNT: 5490
