FILENAME: O4710615.NES.1112487.tif
QUADRANGLE_NAME: SAND ARROYO
QUADRANT: NE
WEST_LONGITUDE: -106 11 15.00000
EAST_LONGITUDE: -106 7 30.00000
NORTH_LATITUDE: 47 52 30.00000
SOUTH_LATITUDE: 47 48 45.00000
PRODUCTION_DATE: 2000 11 16
RASTER_ORDER: LEFT_RIGHT/TOP_BOTTOM
BAND_ORGANIZATION: SINGLE FILE
BAND_CONTENT: BLACK&WHITE
BAND_CONTENT: UNDEFINED
BAND_CONTENT: UNDEFINED
BITS_PER_PIXEL: 8
SAMPLES_AND_LINES: 5427 7621
HORIZONTAL_DATUM: NAD83
HORIZONTAL_COORDINATE_SYSTEM: UTM
COORDINATE_ZONE: 13
HORIZONTAL_UNITS: METERS
HORIZONTAL_RESOLUTION: 1.00000
SECONDARY_HORIZONTAL_DATUM: NAD27
XY_ORIGIN: 410753.00000 5303392.00000
SECONDARY_XY_ORIGIN: 410793.50200 5303171.10700
NATION: US
NATION: "SCIENCE
STATE: MT
NW_QUAD_CORNER_XY: 411204.69400 5303089.67100
NE_QUAD_CORNER_XY: 415878.07000 5303019.71300
SE_QUAD_CORNERY_XY: 415776.94900 5296073.41900
SW_QUAD_CORNER_XY: 411097.95300 5296143.39200
SECONDARY_NW_QUAD_XY: 411201.90700 5302870.84300
SECONDARY_NE_QUAD_XY: 415875.43000 5302800.88300
SECONDARY_SE_QUAD_XY: 415774.30800 5295854.60600
SECONDARY_SW_QUAD_XY: 411095.16600 5295924.58100
RMSE_XY: 0.70000
IMAGE_SOURCE: BLACK AND WHITE FILM
SOURCE_IMAGE_ID: NAPP 9106 059
SOURCE_IMAGE_DATE: 1996 08 07
SOURCE_IMAGE_ID: NAPP 9106 067
SOURCE_IMAGE_DATE: 1996 08 07
SOURCE_IMAGE_ID: NAPP 9122 121
SOURCE_IMAGE_DATE: 1996 09 11
SOURCE_IMAGE_ID: NAPP 9106 058
SOURCE_IMAGE_DATE: 1996 08 07
SOURCE_IMAGE_ID: NAPP 9090 013
SOURCE_IMAGE_DATE: 1996 07 07
SOURCE_DEM_DATE: 1993 00 00
AGENCY: WESTERN MAPPING CENTER (WMC)
PRODUCER: UNDEFINED
PRODUCTION_SYSTEM: GIS/MAGIC
COMPRESSION: UNDEFINED
STANDARD_VERSION: 1996 12
METADATA_DATE: 2000 11 16
DATA_FILE_SIZE: 41364594
BYTE_COUNT: 5427
