FILENAME: O4710615.SWS.1112490.tif
QUADRANGLE_NAME: SAND ARROYO
QUADRANT: SW
WEST_LONGITUDE: -106 15 0.00000
EAST_LONGITUDE: -106 11 15.00000
NORTH_LATITUDE: 47 48 45.00000
SOUTH_LATITUDE: 47 45 0.00000
PRODUCTION_DATE: 2000 11 16
RASTER_ORDER: LEFT_RIGHT/TOP_BOTTOM
BAND_ORGANIZATION: SINGLE FILE
BAND_CONTENT: BLACK&WHITE
BAND_CONTENT: UNDEFINED
BAND_CONTENT: UNDEFINED
BITS_PER_PIXEL: 8
SAMPLES_AND_LINES: 5437 7624
HORIZONTAL_DATUM: NAD83
HORIZONTAL_COORDINATE_SYSTEM: UTM
COORDINATE_ZONE: 13
HORIZONTAL_UNITS: METERS
HORIZONTAL_RESOLUTION: 1.00000
SECONDARY_HORIZONTAL_DATUM: NAD27
XY_ORIGIN: 405962.00000 5296519.00000
SECONDARY_XY_ORIGIN: 406002.59300 5296298.33700
NATION: US
NATION: "SCIENCE
STATE: MT
NW_QUAD_CORNER_XY: 406418.96800 5296217.14800
NE_QUAD_CORNER_XY: 411097.95300 5296143.39200
SE_QUAD_CORNERY_XY: 410991.31900 5289197.18500
SW_QUAD_CORNER_XY: 406306.72000 5289270.95700
SECONDARY_NW_QUAD_XY: 406416.03500 5295998.33900
SECONDARY_NE_QUAD_XY: 411095.16600 5295924.58100
SECONDARY_SE_QUAD_XY: 410988.53300 5288978.39200
SECONDARY_SW_QUAD_XY: 406303.78700 5289052.16600
RMSE_XY: 1.30000
IMAGE_SOURCE: BLACK AND WHITE FILM
SOURCE_IMAGE_ID: NAPP 9106 068
SOURCE_IMAGE_DATE: 1996 08 07
SOURCE_IMAGE_ID: NAPP 9106 067
SOURCE_IMAGE_DATE: 1996 08 07
SOURCE_DEM_DATE: 1993 00 00
AGENCY: WESTERN MAPPING CENTER (WMC)
PRODUCER: UNDEFINED
PRODUCTION_SYSTEM: GIS/MAGIC
COMPRESSION: UNDEFINED
STANDARD_VERSION: 1996 12
METADATA_DATE: 2000 11 16
DATA_FILE_SIZE: 41457125
BYTE_COUNT: 5437
