FILENAME: O4710614.SES.1112453.tif
QUADRANGLE_NAME: SPRING CREEK BAY
QUADRANT: SE
WEST_LONGITUDE: -106 18 45.00000
EAST_LONGITUDE: -106 15 0.00000
NORTH_LATITUDE: 47 48 45.00000
SOUTH_LATITUDE: 47 45 0.00000
PRODUCTION_DATE: 2000 11 16
RASTER_ORDER: LEFT_RIGHT/TOP_BOTTOM
BAND_ORGANIZATION: SINGLE FILE
BAND_CONTENT: BLACK&WHITE
BAND_CONTENT: UNDEFINED
BAND_CONTENT: UNDEFINED
BITS_PER_PIXEL: 8
SAMPLES_AND_LINES: 5443 7629
HORIZONTAL_DATUM: NAD83
HORIZONTAL_COORDINATE_SYSTEM: UTM
COORDINATE_ZONE: 13
HORIZONTAL_UNITS: METERS
HORIZONTAL_RESOLUTION: 1.00000
SECONDARY_HORIZONTAL_DATUM: NAD27
XY_ORIGIN: 401277.00000 5296597.00000
SECONDARY_XY_ORIGIN: 401317.74600 5296376.26500
NATION: US
NATION: "SCIENCE
STATE: MT
NW_QUAD_CORNER_XY: 401739.99400 5296294.68800
NE_QUAD_CORNER_XY: 406418.96800 5296217.14800
SE_QUAD_CORNERY_XY: 406306.72000 5289270.95700
SW_QUAD_CORNER_XY: 401622.13200 5289348.51300
SECONDARY_NW_QUAD_XY: 401736.91400 5296075.88100
SECONDARY_NE_QUAD_XY: 406416.03500 5295998.33900
SECONDARY_SE_QUAD_XY: 406303.78700 5289052.16600
SECONDARY_SW_QUAD_XY: 401619.05200 5289129.72400
RMSE_XY: 2.90000
IMAGE_SOURCE: BLACK AND WHITE FILM
SOURCE_IMAGE_ID: NAPP 9122 047
SOURCE_IMAGE_DATE: 1996 09 11
SOURCE_DEM_DATE: 1971 00 00
AGENCY: WESTERN MAPPING CENTER (WMC)
PRODUCER: UNDEFINED
PRODUCTION_SYSTEM: GIS/MAGIC
COMPRESSION: UNDEFINED
STANDARD_VERSION: 1996 12
METADATA_DATE: 2000 11 16
DATA_FILE_SIZE: 41530090
BYTE_COUNT: 5443
