FILENAME: O4710614.SWS.1112454.tif
QUADRANGLE_NAME: SPRING CREEK BAY
QUADRANT: SW
WEST_LONGITUDE: -106 22 30.00000
EAST_LONGITUDE: -106 18 45.00000
NORTH_LATITUDE: 47 48 45.00000
SOUTH_LATITUDE: 47 45 0.00000
PRODUCTION_DATE: 2000 11 15
RASTER_ORDER: LEFT_RIGHT/TOP_BOTTOM
BAND_ORGANIZATION: SINGLE FILE
BAND_CONTENT: BLACK&WHITE
BAND_CONTENT: UNDEFINED
BAND_CONTENT: UNDEFINED
BITS_PER_PIXEL: 8
SAMPLES_AND_LINES: 5449 7632
HORIZONTAL_DATUM: NAD83
HORIZONTAL_COORDINATE_SYSTEM: UTM
COORDINATE_ZONE: 13
HORIZONTAL_UNITS: METERS
HORIZONTAL_RESOLUTION: 1.00000
SECONDARY_HORIZONTAL_DATUM: NAD27
XY_ORIGIN: 396592.00000 5296678.00000
SECONDARY_XY_ORIGIN: 396632.89100 5296457.19700
NATION: US
NATION: "SCIENCE
STATE: MT
NW_QUAD_CORNER_XY: 397061.03100 5296376.01100
NE_QUAD_CORNER_XY: 401739.99400 5296294.68800
SE_QUAD_CORNERY_XY: 401622.13200 5289348.51300
SW_QUAD_CORNER_XY: 396937.55500 5289429.85300
SECONDARY_NW_QUAD_XY: 397057.80400 5296157.20700
SECONDARY_NE_QUAD_XY: 401736.91400 5296075.88100
SECONDARY_SE_QUAD_XY: 401619.05200 5289129.72400
SECONDARY_SW_QUAD_XY: 396934.32800 5289211.06700
RMSE_XY: 2.80000
IMAGE_SOURCE: BLACK AND WHITE FILM
SOURCE_IMAGE_ID: NAPP 9109 258
SOURCE_IMAGE_DATE: 1996 08 11
SOURCE_DEM_DATE: 1971 00 00
AGENCY: WESTERN MAPPING CENTER (WMC)
PRODUCER: UNDEFINED
PRODUCTION_SYSTEM: GIS/MAGIC
COMPRESSION: UNDEFINED
STANDARD_VERSION: 1996 12
METADATA_DATE: 2000 11 16
DATA_FILE_SIZE: 41592217
BYTE_COUNT: 5449
