FILENAME: O4710612.SWS.1112398.tif
QUADRANGLE_NAME: SAGE CREEK POINT
QUADRANT: SW
WEST_LONGITUDE: -106 37 30.00000
EAST_LONGITUDE: -106 33 45.00000
NORTH_LATITUDE: 47 48 45.00000
SOUTH_LATITUDE: 47 45 0.00000
PRODUCTION_DATE: 2000 11 15
RASTER_ORDER: LEFT_RIGHT/TOP_BOTTOM
BAND_ORGANIZATION: SINGLE FILE
BAND_CONTENT: BLACK&WHITE
BAND_CONTENT: UNDEFINED
BAND_CONTENT: UNDEFINED
BITS_PER_PIXEL: 8
SAMPLES_AND_LINES: 5474 7648
HORIZONTAL_DATUM: NAD83
HORIZONTAL_COORDINATE_SYSTEM: UTM
COORDINATE_ZONE: 13
HORIZONTAL_UNITS: METERS
HORIZONTAL_RESOLUTION: 1.00000
SECONDARY_HORIZONTAL_DATUM: NAD27
XY_ORIGIN: 377852.00000 5297042.00000
SECONDARY_XY_ORIGIN: 377893.55700 5296821.00600
NATION: US
NATION: "SCIENCE
STATE: MT
NW_QUAD_CORNER_XY: 378345.30400 5296739.14300
NE_QUAD_CORNER_XY: 383024.21600 5296642.68400
SE_QUAD_CORNERY_XY: 382883.89500 5289696.58200
SW_QUAD_CORNER_XY: 378199.36800 5289793.06200
SECONDARY_NW_QUAD_XY: 378341.49000 5296520.35100
SECONDARY_NE_QUAD_XY: 383020.54900 5296423.88900
SECONDARY_SE_QUAD_XY: 382880.22800 5289477.80400
SECONDARY_SW_QUAD_XY: 378195.55400 5289574.28700
RMSE_XY: 2.40000
IMAGE_SOURCE: BLACK AND WHITE FILM
SOURCE_IMAGE_ID: NAPP 9110 180
SOURCE_IMAGE_DATE: 1996 08 11
SOURCE_IMAGE_ID: NAPP 9111 116
SOURCE_IMAGE_DATE: 1996 08 11
SOURCE_DEM_DATE: 1993 00 00
AGENCY: WESTERN MAPPING CENTER (WMC)
PRODUCER: UNDEFINED
PRODUCTION_SYSTEM: GIS/MAGIC
COMPRESSION: UNDEFINED
STANDARD_VERSION: 1996 12
METADATA_DATE: 2000 11 16
DATA_FILE_SIZE: 41870626
BYTE_COUNT: 5474
