FILENAME: O4710610.NES.1112294.tif
QUADRANGLE_NAME: MIDDLE EIGHTH COULEE
QUADRANT: NE
WEST_LONGITUDE: -106 48 45.00000
EAST_LONGITUDE: -106 45 0.00000
NORTH_LATITUDE: 47 52 30.00000
SOUTH_LATITUDE: 47 48 45.00000
PRODUCTION_DATE: 2000 11 14
RASTER_ORDER: LEFT_RIGHT/TOP_BOTTOM
BAND_ORGANIZATION: SINGLE FILE
BAND_CONTENT: BLACK&WHITE
BAND_CONTENT: UNDEFINED
BAND_CONTENT: UNDEFINED
BITS_PER_PIXEL: 8
SAMPLES_AND_LINES: 5485 7659
HORIZONTAL_DATUM: NAD83
HORIZONTAL_COORDINATE_SYSTEM: UTM
COORDINATE_ZONE: 13
HORIZONTAL_UNITS: METERS
HORIZONTAL_RESOLUTION: 1.00000
SECONDARY_HORIZONTAL_DATUM: NAD27
XY_ORIGIN: 363961.00000 5304300.00000
SECONDARY_XY_ORIGIN: 364002.88900 5304078.81400
NATION: US
NATION: "SCIENCE
STATE: MT
NW_QUAD_CORNER_XY: 364471.60000 5303997.31400
NE_QUAD_CORNER_XY: 369144.84700 5303889.52400
SE_QUAD_CORNERY_XY: 368987.52200 5296943.41600
SW_QUAD_CORNER_XY: 364308.65400 5297051.22900
SECONDARY_NW_QUAD_XY: 364467.34600 5303778.51500
SECONDARY_NE_QUAD_XY: 369140.73900 5303670.72100
SECONDARY_SE_QUAD_XY: 368983.41500 5296724.63000
SECONDARY_SW_QUAD_XY: 364304.40000 5296832.44700
RMSE_XY: 2.00000
IMAGE_SOURCE: BLACK AND WHITE FILM
SOURCE_IMAGE_ID: NAPP 9109 055
SOURCE_IMAGE_DATE: 1996 08 11
SOURCE_IMAGE_ID: NAPP 10723 055
SOURCE_IMAGE_DATE: 1997 08 28
SOURCE_DEM_DATE: 1993 00 00
AGENCY: WESTERN MAPPING CENTER (WMC)
PRODUCER: UNDEFINED
PRODUCTION_SYSTEM: GIS/MAGIC
COMPRESSION: UNDEFINED
STANDARD_VERSION: 1996 12
METADATA_DATE: 2000 11 17
DATA_FILE_SIZE: 42015100
BYTE_COUNT: 5485
