FILENAME: O4710609.NWS.1112259.tif
QUADRANGLE_NAME: BROWN PASS
QUADRANT: NW
WEST_LONGITUDE: -107 0 0.00000
EAST_LONGITUDE: -106 56 15.00000
NORTH_LATITUDE: 47 52 30.00000
SOUTH_LATITUDE: 47 48 45.00000
PRODUCTION_DATE: 2000 11 14
RASTER_ORDER: LEFT_RIGHT/TOP_BOTTOM
BAND_ORGANIZATION: SINGLE FILE
BAND_CONTENT: BLACK&WHITE
BAND_CONTENT: UNDEFINED
BAND_CONTENT: UNDEFINED
BITS_PER_PIXEL: 8
SAMPLES_AND_LINES: 5503 7670
HORIZONTAL_DATUM: NAD83
HORIZONTAL_COORDINATE_SYSTEM: UTM
COORDINATE_ZONE: 13
HORIZONTAL_UNITS: METERS
HORIZONTAL_RESOLUTION: 1.00000
SECONDARY_HORIZONTAL_DATUM: NAD27
XY_ORIGIN: 349924.00000 5304646.00000
SECONDARY_XY_ORIGIN: 349966.31300 5304424.92100
NATION: US
NATION: "SCIENCE
STATE: MT
NW_QUAD_CORNER_XY: 350451.95900 5304343.39200
NE_QUAD_CORNER_XY: 355125.15600 5304224.24800
SE_QUAD_CORNERY_XY: 354950.96500 5297278.21200
SW_QUAD_CORNER_XY: 350272.14500 5297397.38200
SECONDARY_NW_QUAD_XY: 350447.26500 5304124.60400
SECONDARY_NE_QUAD_XY: 355120.60800 5304005.45600
SECONDARY_SE_QUAD_XY: 354946.41700 5297059.43700
SECONDARY_SW_QUAD_XY: 350267.45100 5297178.61000
RMSE_XY: 1.70000
IMAGE_SOURCE: BLACK AND WHITE FILM
SOURCE_IMAGE_ID: NAPP 9101 025
SOURCE_IMAGE_DATE: 1996 07 15
SOURCE_IMAGE_ID: NAPP 9101 101
SOURCE_IMAGE_DATE: 1996 07 15
SOURCE_DEM_DATE: 1993 00 00
AGENCY: WESTERN MAPPING CENTER (WMC)
PRODUCER: UNDEFINED
PRODUCTION_SYSTEM: GIS/MAGIC
COMPRESSION: UNDEFINED
STANDARD_VERSION: 1996 12
METADATA_DATE: 2000 11 17
DATA_FILE_SIZE: 42213513
BYTE_COUNT: 5503
