FILENAME: O4710609.SWS.1112261.tif
QUADRANGLE_NAME: BROWN PASS
QUADRANT: SW
WEST_LONGITUDE: -107 0 0.00000
EAST_LONGITUDE: -106 56 15.00000
NORTH_LATITUDE: 47 48 45.00000
SOUTH_LATITUDE: 47 45 0.00000
PRODUCTION_DATE: 2000 11 14
RASTER_ORDER: LEFT_RIGHT/TOP_BOTTOM
BAND_ORGANIZATION: SINGLE FILE
BAND_CONTENT: BLACK&WHITE
BAND_CONTENT: UNDEFINED
BAND_CONTENT: UNDEFINED
BITS_PER_PIXEL: 8
SAMPLES_AND_LINES: 5508 7670
HORIZONTAL_DATUM: NAD83
HORIZONTAL_COORDINATE_SYSTEM: UTM
COORDINATE_ZONE: 13
HORIZONTAL_UNITS: METERS
HORIZONTAL_RESOLUTION: 1.00000
SECONDARY_HORIZONTAL_DATUM: NAD27
XY_ORIGIN: 349744.00000 5297700.00000
SECONDARY_XY_ORIGIN: 349786.44700 5297478.96400
NATION: US
NATION: "SCIENCE
STATE: MT
NW_QUAD_CORNER_XY: 350272.14500 5297397.38200
NE_QUAD_CORNER_XY: 354950.96500 5297278.21200
SE_QUAD_CORNERY_XY: 354776.94700 5290332.24300
SW_QUAD_CORNER_XY: 350092.51000 5290451.43800
SECONDARY_NW_QUAD_XY: 350267.45100 5297178.61000
SECONDARY_NE_QUAD_XY: 354946.41700 5297059.43700
SECONDARY_SE_QUAD_XY: 354772.40000 5290113.48600
SECONDARY_SW_QUAD_XY: 350087.81700 5290232.68400
RMSE_XY: 1.10000
IMAGE_SOURCE: BLACK AND WHITE FILM
SOURCE_IMAGE_ID: NAPP 9101 023
SOURCE_IMAGE_DATE: 1996 07 15
SOURCE_IMAGE_ID: NAPP 9101 024
SOURCE_IMAGE_DATE: 1996 07 15
SOURCE_DEM_DATE: 1993 00 00
AGENCY: WESTERN MAPPING CENTER (WMC)
PRODUCER: UNDEFINED
PRODUCTION_SYSTEM: GIS/MAGIC
COMPRESSION: UNDEFINED
STANDARD_VERSION: 1996 12
METADATA_DATE: 2000 11 17
DATA_FILE_SIZE: 42251868
BYTE_COUNT: 5508
