FILENAME: O4710608.NES.1112599.tif
QUADRANGLE_NAME: PASTURE CREEK
QUADRANT: NE
WEST_LONGITUDE: -106 3 45.00000
EAST_LONGITUDE: -106 0 0.00000
NORTH_LATITUDE: 48 0 0.00000
SOUTH_LATITUDE: 47 56 15.00000
PRODUCTION_DATE: 2000 11 16
RASTER_ORDER: LEFT_RIGHT/TOP_BOTTOM
BAND_ORGANIZATION: SINGLE FILE
BAND_CONTENT: BLACK&WHITE
BAND_CONTENT: UNDEFINED
BAND_CONTENT: UNDEFINED
BITS_PER_PIXEL: 8
SAMPLES_AND_LINES: 5403 7614
HORIZONTAL_DATUM: NAD83
HORIZONTAL_COORDINATE_SYSTEM: UTM
COORDINATE_ZONE: 13
HORIZONTAL_UNITS: METERS
HORIZONTAL_RESOLUTION: 1.00000
SECONDARY_HORIZONTAL_DATUM: NAD27
XY_ORIGIN: 420303.00000 5317149.00000
SECONDARY_XY_ORIGIN: 420343.36300 5316927.67600
NATION: US
NATION: "SCIENCE
STATE: MT
NW_QUAD_CORNER_XY: 420742.74700 5316846.37500
NE_QUAD_CORNER_XY: 425404.88800 5316784.00900
SE_QUAD_CORNERY_XY: 425314.82500 5309837.53900
SW_QUAD_CORNER_XY: 420647.05400 5309899.91900
SECONDARY_NW_QUAD_XY: 420740.25200 5316627.51100
SECONDARY_NE_QUAD_XY: 425402.54000 5316565.14300
SECONDARY_SE_QUAD_XY: 425312.47700 5309618.68900
SECONDARY_SW_QUAD_XY: 420644.56000 5309681.07100
RMSE_XY: 1.60000
IMAGE_SOURCE: BLACK AND WHITE FILM
SOURCE_IMAGE_ID: NAPP 9089 098
SOURCE_IMAGE_DATE: 1996 07 07
SOURCE_DEM_DATE: 1993 00 00
AGENCY: WESTERN MAPPING CENTER (WMC)
PRODUCER: UNDEFINED
PRODUCTION_SYSTEM: GIS/MAGIC
COMPRESSION: UNDEFINED
STANDARD_VERSION: 1996 12
METADATA_DATE: 2000 11 16
DATA_FILE_SIZE: 41143845
BYTE_COUNT: 5403
