FILENAME: O4710608.SES.1112601.tif
QUADRANGLE_NAME: PASTURE CREEK
QUADRANT: SE
WEST_LONGITUDE: -106 3 45.00000
EAST_LONGITUDE: -106 0 0.00000
NORTH_LATITUDE: 47 56 15.00000
SOUTH_LATITUDE: 47 52 30.00000
PRODUCTION_DATE: 2000 11 16
RASTER_ORDER: LEFT_RIGHT/TOP_BOTTOM
BAND_ORGANIZATION: SINGLE FILE
BAND_CONTENT: BLACK&WHITE
BAND_CONTENT: UNDEFINED
BAND_CONTENT: UNDEFINED
BITS_PER_PIXEL: 8
SAMPLES_AND_LINES: 5409 7614
HORIZONTAL_DATUM: NAD83
HORIZONTAL_COORDINATE_SYSTEM: UTM
COORDINATE_ZONE: 13
HORIZONTAL_UNITS: METERS
HORIZONTAL_RESOLUTION: 1.00000
SECONDARY_HORIZONTAL_DATUM: NAD27
XY_ORIGIN: 420207.00000 5310203.00000
SECONDARY_XY_ORIGIN: 420247.38300 5309981.91800
NATION: US
NATION: "SCIENCE
STATE: MT
NW_QUAD_CORNER_XY: 420647.05400 5309899.91900
NE_QUAD_CORNER_XY: 425314.82500 5309837.53900
SE_QUAD_CORNERY_XY: 425224.85100 5302891.14400
SW_QUAD_CORNER_XY: 420551.45600 5302953.53700
SECONDARY_NW_QUAD_XY: 420644.56000 5309681.07100
SECONDARY_NE_QUAD_XY: 425312.47700 5309618.68900
SECONDARY_SE_QUAD_XY: 425222.50400 5302672.31000
SECONDARY_SW_QUAD_XY: 420548.96200 5302734.70500
RMSE_XY: 1.30000
IMAGE_SOURCE: BLACK AND WHITE FILM
SOURCE_IMAGE_ID: NAPP 9089 096
SOURCE_IMAGE_DATE: 1996 07 07
SOURCE_IMAGE_ID: NAPP 9089 095
SOURCE_IMAGE_DATE: 1996 07 07
SOURCE_IMAGE_ID: NAPP 9089 097
SOURCE_IMAGE_DATE: 1996 07 07
SOURCE_DEM_DATE: 1993 00 00
AGENCY: WESTERN MAPPING CENTER (WMC)
PRODUCER: UNDEFINED
PRODUCTION_SYSTEM: GIS/MAGIC
COMPRESSION: UNDEFINED
STANDARD_VERSION: 1996 12
METADATA_DATE: 2000 11 16
DATA_FILE_SIZE: 41189535
BYTE_COUNT: 5409
