FILENAME: O4710607.NES.1112567.tif
QUADRANGLE_NAME: MCRAE SPRINGS
QUADRANT: NE
WEST_LONGITUDE: -106 11 15.00000
EAST_LONGITUDE: -106 7 30.00000
NORTH_LATITUDE: 48 0 0.00000
SOUTH_LATITUDE: 47 56 15.00000
PRODUCTION_DATE: 2000 11 16
RASTER_ORDER: LEFT_RIGHT/TOP_BOTTOM
BAND_ORGANIZATION: SINGLE FILE
BAND_CONTENT: BLACK&WHITE
BAND_CONTENT: UNDEFINED
BAND_CONTENT: UNDEFINED
BITS_PER_PIXEL: 8
SAMPLES_AND_LINES: 5415 7621
HORIZONTAL_DATUM: NAD83
HORIZONTAL_COORDINATE_SYSTEM: UTM
COORDINATE_ZONE: 13
HORIZONTAL_UNITS: METERS
HORIZONTAL_RESOLUTION: 1.00000
SECONDARY_HORIZONTAL_DATUM: NAD27
XY_ORIGIN: 410967.00000 5317285.00000
SECONDARY_XY_ORIGIN: 411007.43200 5317063.60300
NATION: US
NATION: "SCIENCE
STATE: MT
NW_QUAD_CORNER_XY: 411418.49400 5316982.44800
NE_QUAD_CORNER_XY: 416080.61500 5316912.52100
SE_QUAD_CORNERY_XY: 415979.29200 5309966.08100
SW_QUAD_CORNER_XY: 411311.54100 5310036.02300
SECONDARY_NW_QUAD_XY: 411415.70700 5316763.58900
SECONDARY_NE_QUAD_XY: 416077.97400 5316693.66000
SECONDARY_SE_QUAD_XY: 415976.65200 5309747.23400
SECONDARY_SW_QUAD_XY: 411308.75400 5309817.17900
RMSE_XY: 1.70000
IMAGE_SOURCE: BLACK AND WHITE FILM
SOURCE_IMAGE_ID: NAPP 9106 063
SOURCE_IMAGE_DATE: 1996 08 07
SOURCE_DEM_DATE: 1993 00 00
AGENCY: WESTERN MAPPING CENTER (WMC)
PRODUCER: UNDEFINED
PRODUCTION_SYSTEM: GIS/MAGIC
COMPRESSION: UNDEFINED
STANDARD_VERSION: 1996 12
METADATA_DATE: 2000 11 16
DATA_FILE_SIZE: 41273130
BYTE_COUNT: 5415
