FILENAME: O4710605.NWS.1112428.tif
QUADRANGLE_NAME: YORK ISLAND
QUADRANT: NW
WEST_LONGITUDE: -106 30 0.00000
EAST_LONGITUDE: -106 26 15.00000
NORTH_LATITUDE: 48 0 0.00000
SOUTH_LATITUDE: 47 56 15.00000
PRODUCTION_DATE: 2000 11 15
RASTER_ORDER: LEFT_RIGHT/TOP_BOTTOM
BAND_ORGANIZATION: SINGLE FILE
BAND_CONTENT: BLACK&WHITE
BAND_CONTENT: UNDEFINED
BAND_CONTENT: UNDEFINED
BITS_PER_PIXEL: 8
SAMPLES_AND_LINES: 5445 7641
HORIZONTAL_DATUM: NAD83
HORIZONTAL_COORDINATE_SYSTEM: UTM
COORDINATE_ZONE: 13
HORIZONTAL_UNITS: METERS
HORIZONTAL_RESOLUTION: 1.00000
SECONDARY_HORIZONTAL_DATUM: NAD27
XY_ORIGIN: 387627.00000 5317692.00000
SECONDARY_XY_ORIGIN: 387667.93700 5317470.29500
NATION: US
NATION: "SCIENCE
STATE: MT
NW_QUAD_CORNER_XY: 388108.06500 5317388.79800
NE_QUAD_CORNER_XY: 392770.12600 5317299.96600
SE_QUAD_CORNERY_XY: 392640.64800 5310353.61200
SW_QUAD_CORNER_XY: 387972.95600 5310442.46400
SECONDARY_NW_QUAD_XY: 388104.54400 5317169.95200
SECONDARY_NE_QUAD_XY: 392766.75100 5317081.11700
SECONDARY_SE_QUAD_XY: 392637.27400 5310134.77800
SECONDARY_SW_QUAD_XY: 387969.43500 5310223.63300
RMSE_XY: 3.00000
IMAGE_SOURCE: BLACK AND WHITE FILM
SOURCE_IMAGE_ID: NAPP 9109 128
SOURCE_IMAGE_DATE: 1996 08 11
SOURCE_DEM_DATE: 1993 00 00
AGENCY: WESTERN MAPPING CENTER (WMC)
PRODUCER: UNDEFINED
PRODUCTION_SYSTEM: GIS/MAGIC
COMPRESSION: UNDEFINED
STANDARD_VERSION: 1996 12
METADATA_DATE: 2000 11 16
DATA_FILE_SIZE: 41610690
BYTE_COUNT: 5445
