FILENAME: O4710603.SWS.1112347.tif
QUADRANGLE_NAME: LEWIS RESERVOIR
QUADRANT: SW
WEST_LONGITUDE: -106 45 0.00000
EAST_LONGITUDE: -106 41 15.00000
NORTH_LATITUDE: 47 56 15.00000
SOUTH_LATITUDE: 47 52 30.00000
PRODUCTION_DATE: 2000 11 14
RASTER_ORDER: LEFT_RIGHT/TOP_BOTTOM
BAND_ORGANIZATION: SINGLE FILE
BAND_CONTENT: BLACK&WHITE
BAND_CONTENT: UNDEFINED
BAND_CONTENT: UNDEFINED
BITS_PER_PIXEL: 8
SAMPLES_AND_LINES: 5474 7656
HORIZONTAL_DATUM: NAD83
HORIZONTAL_COORDINATE_SYSTEM: UTM
COORDINATE_ZONE: 13
HORIZONTAL_UNITS: METERS
HORIZONTAL_RESOLUTION: 1.00000
SECONDARY_HORIZONTAL_DATUM: NAD27
XY_ORIGIN: 368797.00000 5311139.00000
SECONDARY_XY_ORIGIN: 368838.59100 5310917.60500
NATION: US
NATION: "SCIENCE
STATE: MT
NW_QUAD_CORNER_XY: 369302.32800 5310835.70100
NE_QUAD_CORNER_XY: 373969.96300 5310731.71700
SE_QUAD_CORNERY_XY: 373818.10900 5303785.51800
SW_QUAD_CORNER_XY: 369144.84700 5303889.52400
SECONDARY_NW_QUAD_XY: 369298.22000 5310616.88200
SECONDARY_NE_QUAD_XY: 373966.00200 5310512.89500
SECONDARY_SE_QUAD_XY: 373814.14800 5303566.71200
SECONDARY_SW_QUAD_XY: 369140.73900 5303670.72100
RMSE_XY: 1.80000
IMAGE_SOURCE: BLACK AND WHITE FILM
SOURCE_IMAGE_ID: NAPP 9111 194
SOURCE_IMAGE_DATE: 1996 08 11
SOURCE_DEM_DATE: 1993 00 00
AGENCY: WESTERN MAPPING CENTER (WMC)
PRODUCER: UNDEFINED
PRODUCTION_SYSTEM: GIS/MAGIC
COMPRESSION: UNDEFINED
STANDARD_VERSION: 1996 12
METADATA_DATE: 2000 11 16
DATA_FILE_SIZE: 41914418
BYTE_COUNT: 5474
