FILENAME: O4710764.NWS.1115033.tif
QUADRANGLE_NAME: FIG MOUNTAIN
QUADRANT: NW
WEST_LONGITUDE: -107 7 30.00000
EAST_LONGITUDE: -107 3 45.00000
NORTH_LATITUDE: 47 7 30.00000
SOUTH_LATITUDE: 47 3 45.00000
PRODUCTION_DATE: 2000 11 16
RASTER_ORDER: LEFT_RIGHT/TOP_BOTTOM
BAND_ORGANIZATION: SINGLE FILE
BAND_CONTENT: BLACK&WHITE
BAND_CONTENT: UNDEFINED
BAND_CONTENT: UNDEFINED
BITS_PER_PIXEL: 8
SAMPLES_AND_LINES: 5580 7677
HORIZONTAL_DATUM: NAD83
HORIZONTAL_COORDINATE_SYSTEM: UTM
COORDINATE_ZONE: 13
HORIZONTAL_UNITS: METERS
HORIZONTAL_RESOLUTION: 1.00000
SECONDARY_HORIZONTAL_DATUM: NAD27
XY_ORIGIN: 338287.00000 5221548.00000
SECONDARY_XY_ORIGIN: 338329.90800 5221328.28900
NATION: US
NATION: "SCIENCE
STATE: MT
NW_QUAD_CORNER_XY: 338825.51400 5221245.88600
NE_QUAD_CORNER_XY: 343565.78800 5221118.88400
SE_QUAD_CORNERY_XY: 343382.58500 5214173.69500
SW_QUAD_CORNER_XY: 338636.75500 5214300.71700
SECONDARY_NW_QUAD_XY: 338820.53300 5221027.36400
SECONDARY_NE_QUAD_XY: 343560.95400 5220900.35800
SECONDARY_SE_QUAD_XY: 343377.75100 5213955.19600
SECONDARY_SW_QUAD_XY: 338631.77500 5214082.22200
RMSE_XY: 0.90000
IMAGE_SOURCE: BLACK AND WHITE FILM
SOURCE_IMAGE_ID: NAPP 10764 074
SOURCE_IMAGE_DATE: 1997 09 20
SOURCE_DEM_DATE: 1964 00 00
AGENCY: WESTERN MAPPING CENTER (WMC)
PRODUCER: UNDEFINED
PRODUCTION_SYSTEM: GIS/MAGIC
COMPRESSION: UNDEFINED
STANDARD_VERSION: 1996 12
METADATA_DATE: 2000 11 17
DATA_FILE_SIZE: 42843240
BYTE_COUNT: 5580
