FILENAME: O4710763.NES.1114996.tif
QUADRANGLE_NAME: VAN DUSEN SPRING
QUADRANT: NE
WEST_LONGITUDE: -107 11 15.00000
EAST_LONGITUDE: -107 7 30.00000
NORTH_LATITUDE: 47 7 30.00000
SOUTH_LATITUDE: 47 3 45.00000
PRODUCTION_DATE: 2000 11 16
RASTER_ORDER: LEFT_RIGHT/TOP_BOTTOM
BAND_ORGANIZATION: SINGLE FILE
BAND_CONTENT: BLACK&WHITE
BAND_CONTENT: UNDEFINED
BAND_CONTENT: UNDEFINED
BITS_PER_PIXEL: 8
SAMPLES_AND_LINES: 5586 7680
HORIZONTAL_DATUM: NAD83
HORIZONTAL_COORDINATE_SYSTEM: UTM
COORDINATE_ZONE: 13
HORIZONTAL_UNITS: METERS
HORIZONTAL_RESOLUTION: 1.00000
SECONDARY_HORIZONTAL_DATUM: NAD27
XY_ORIGIN: 333541.00000 5221678.00000
SECONDARY_XY_ORIGIN: 333584.01800 5221458.25300
NATION: US
NATION: "SCIENCE
STATE: MT
NW_QUAD_CORNER_XY: 334085.25400 5221376.68100
NE_QUAD_CORNER_XY: 338825.51400 5221245.88600
SE_QUAD_CORNERY_XY: 338636.75500 5214300.71700
SW_QUAD_CORNER_XY: 333890.93800 5214431.53300
SECONDARY_NW_QUAD_XY: 334080.12700 5221158.16400
SECONDARY_NE_QUAD_XY: 338820.53300 5221027.36400
SECONDARY_SE_QUAD_XY: 338631.77500 5214082.22200
SECONDARY_SW_QUAD_XY: 333885.81200 5214213.04200
RMSE_XY: 0.70000
IMAGE_SOURCE: BLACK AND WHITE FILM
SOURCE_IMAGE_ID: NAPP 9100 010
SOURCE_IMAGE_DATE: 1996 07 14
SOURCE_DEM_DATE: 1964 00 00
AGENCY: WESTERN MAPPING CENTER (WMC)
PRODUCER: UNDEFINED
PRODUCTION_SYSTEM: GIS/MAGIC
COMPRESSION: UNDEFINED
STANDARD_VERSION: 1996 12
METADATA_DATE: 2000 11 17
DATA_FILE_SIZE: 42906066
BYTE_COUNT: 5586
