FILENAME: O4710763.SES.1114998.tif
QUADRANGLE_NAME: VAN DUSEN SPRING
QUADRANT: SE
WEST_LONGITUDE: -107 11 15.00000
EAST_LONGITUDE: -107 7 30.00000
NORTH_LATITUDE: 47 3 45.00000
SOUTH_LATITUDE: 47 0 0.00000
PRODUCTION_DATE: 2000 11 16
RASTER_ORDER: LEFT_RIGHT/TOP_BOTTOM
BAND_ORGANIZATION: SINGLE FILE
BAND_CONTENT: BLACK&WHITE
BAND_CONTENT: UNDEFINED
BAND_CONTENT: UNDEFINED
BITS_PER_PIXEL: 8
SAMPLES_AND_LINES: 5591 7680
HORIZONTAL_DATUM: NAD83
HORIZONTAL_COORDINATE_SYSTEM: UTM
COORDINATE_ZONE: 13
HORIZONTAL_UNITS: METERS
HORIZONTAL_RESOLUTION: 1.00000
SECONDARY_HORIZONTAL_DATUM: NAD27
XY_ORIGIN: 333347.00000 5214733.00000
SECONDARY_XY_ORIGIN: 333390.01400 5214513.36800
NATION: US
NATION: "SCIENCE
STATE: MT
NW_QUAD_CORNER_XY: 333890.93800 5214431.53300
NE_QUAD_CORNER_XY: 338636.75500 5214300.71700
SE_QUAD_CORNERY_XY: 338448.18900 5207355.61300
SW_QUAD_CORNER_XY: 333696.82100 5207486.45000
SECONDARY_NW_QUAD_XY: 333885.81200 5214213.04200
SECONDARY_NE_QUAD_XY: 338631.77500 5214082.22200
SECONDARY_SE_QUAD_XY: 338443.21000 5207137.14700
SECONDARY_SW_QUAD_XY: 333691.69600 5207267.98700
RMSE_XY: 2.00000
IMAGE_SOURCE: BLACK AND WHITE FILM
SOURCE_IMAGE_ID: NAPP 9100 012
SOURCE_IMAGE_DATE: 1996 07 14
SOURCE_IMAGE_ID: NAPP 10765 029
SOURCE_IMAGE_DATE: 1997 09 23
SOURCE_IMAGE_ID: NAPP 10765 030
SOURCE_IMAGE_DATE: 1997 09 23
SOURCE_IMAGE_ID: NAPP 9100 013
SOURCE_IMAGE_DATE: 1996 07 14
SOURCE_DEM_DATE: 1964 00 00
AGENCY: WESTERN MAPPING CENTER (WMC)
PRODUCER: UNDEFINED
PRODUCTION_SYSTEM: GIS/MAGIC
COMPRESSION: UNDEFINED
STANDARD_VERSION: 1996 12
METADATA_DATE: 2000 11 17
DATA_FILE_SIZE: 42944471
BYTE_COUNT: 5591
