FILENAME: O4710763.SWS.1114999.tif
QUADRANGLE_NAME: VAN DUSEN SPRING
QUADRANT: SW
WEST_LONGITUDE: -107 15 0.00000
EAST_LONGITUDE: -107 11 15.00000
NORTH_LATITUDE: 47 3 45.00000
SOUTH_LATITUDE: 47 0 0.00000
PRODUCTION_DATE: 2000 11 16
RASTER_ORDER: LEFT_RIGHT/TOP_BOTTOM
BAND_ORGANIZATION: SINGLE FILE
BAND_CONTENT: BLACK&WHITE
BAND_CONTENT: UNDEFINED
BAND_CONTENT: UNDEFINED
BITS_PER_PIXEL: 8
SAMPLES_AND_LINES: 5596 7684
HORIZONTAL_DATUM: NAD83
HORIZONTAL_COORDINATE_SYSTEM: UTM
COORDINATE_ZONE: 13
HORIZONTAL_UNITS: METERS
HORIZONTAL_RESOLUTION: 1.00000
SECONDARY_HORIZONTAL_DATUM: NAD27
XY_ORIGIN: 328596.00000 5214868.00000
SECONDARY_XY_ORIGIN: 328639.12600 5214648.33800
NATION: US
NATION: "SCIENCE
STATE: MT
NW_QUAD_CORNER_XY: 329145.13600 5214566.14500
NE_QUAD_CORNER_XY: 333890.93800 5214431.53300
SE_QUAD_CORNERY_XY: 333696.82100 5207486.45000
SW_QUAD_CORNER_XY: 328945.46800 5207621.08200
SECONDARY_NW_QUAD_XY: 329139.86300 5214347.65800
SECONDARY_NE_QUAD_XY: 333885.81200 5214213.04200
SECONDARY_SE_QUAD_XY: 333691.69600 5207267.98700
SECONDARY_SW_QUAD_XY: 328940.19500 5207402.62300
RMSE_XY: 1.50000
IMAGE_SOURCE: BLACK AND WHITE FILM
SOURCE_IMAGE_ID: NAPP 10765 030
SOURCE_IMAGE_DATE: 1997 09 23
SOURCE_IMAGE_ID: NAPP 10765 029
SOURCE_IMAGE_DATE: 1997 09 23
SOURCE_IMAGE_ID: NAPP 9100 013
SOURCE_IMAGE_DATE: 1996 07 14
SOURCE_DEM_DATE: 1964 00 00
AGENCY: WESTERN MAPPING CENTER (WMC)
PRODUCER: UNDEFINED
PRODUCTION_SYSTEM: GIS/MAGIC
COMPRESSION: UNDEFINED
STANDARD_VERSION: 1996 12
METADATA_DATE: 2000 11 17
DATA_FILE_SIZE: 43005260
BYTE_COUNT: 5596
