FILENAME: O4710758.NWS.1112151.tif
QUADRANGLE_NAME: BARNEY PINNACLE
QUADRANT: NW
WEST_LONGITUDE: -107 52 30.00000
EAST_LONGITUDE: -107 48 45.00000
NORTH_LATITUDE: 47 7 30.00000
SOUTH_LATITUDE: 47 3 45.00000
PRODUCTION_DATE: 2000 11 16
RASTER_ORDER: LEFT_RIGHT/TOP_BOTTOM
BAND_ORGANIZATION: SINGLE FILE
BAND_CONTENT: BLACK&WHITE
BAND_CONTENT: UNDEFINED
BAND_CONTENT: UNDEFINED
BITS_PER_PIXEL: 8
SAMPLES_AND_LINES: 5649 7721
HORIZONTAL_DATUM: NAD83
HORIZONTAL_COORDINATE_SYSTEM: UTM
COORDINATE_ZONE: 13
HORIZONTAL_UNITS: METERS
HORIZONTAL_RESOLUTION: 1.00000
SECONDARY_HORIZONTAL_DATUM: NAD27
XY_ORIGIN: 281336.00000 5223367.00000
SECONDARY_XY_ORIGIN: 281379.81600 5223147.65400
NATION: US
NATION: "SCIENCE
STATE: MT
NW_QUAD_CORNER_XY: 281943.44300 5223065.94100
NE_QUAD_CORNER_XY: 286683.52100 5222893.38800
SE_QUAD_CORNERY_XY: 286433.61500 5215948.48000
SW_QUAD_CORNER_XY: 281687.97600 5216121.06000
SECONDARY_NW_QUAD_XY: 281936.70400 5222847.47500
SECONDARY_NE_QUAD_XY: 286676.92800 5222674.91700
SECONDARY_SE_QUAD_XY: 286427.02300 5215730.03600
SECONDARY_SW_QUAD_XY: 281681.23800 5215902.62100
RMSE_XY: 1.20000
IMAGE_SOURCE: BLACK AND WHITE FILM
SOURCE_IMAGE_ID: NAPP 9132 058
SOURCE_IMAGE_DATE: 1996 07 29
SOURCE_IMAGE_ID: NAPP 9132 057
SOURCE_IMAGE_DATE: 1996 07 29
SOURCE_IMAGE_ID: NAPP 9132 059
SOURCE_IMAGE_DATE: 1996 07 29
SOURCE_DEM_DATE: 1993 00 00
AGENCY: WESTERN MAPPING CENTER (WMC)
PRODUCER: UNDEFINED
PRODUCTION_SYSTEM: GIS/MAGIC
COMPRESSION: UNDEFINED
STANDARD_VERSION: 1996 12
METADATA_DATE: 2000 11 16
DATA_FILE_SIZE: 43621578
BYTE_COUNT: 5649
